BEGIN:VCALENDAR
VERSION:2.0
PRODID:-//wp-events-plugin.com//7.2.3.1//EN
TZID:Europe/Rome
X-WR-TIMEZONE:Europe/Rome
BEGIN:VEVENT
UID:46@anpia.it
DTSTART;TZID=Europe/Rome:20251211T100000
DTEND;TZID=Europe/Rome:20251211T130000
DTSTAMP:20251124T140517Z
URL:https://anpia.it/eventi/workshop-inapp-presidente/
SUMMARY:Workshop INAPP -  Presidente
DESCRIPTION:L'Istituto nazionale per l’analisi delle politiche pubbliche 
 (INAPP) promuove il workshop Connettere per comprendere: l’Atlante come 
 quadro integrato per l’analisi del lavoro per mettere in luce come le tr
 asformazioni in atto nel mondo del lavoro richiedano modelli integrati\, c
 apaci di coniugare i dati quantitativi con la rappresentazione dinamica de
 i fenomeni osservati\, verso approcci di analisi in cui misurazione e inte
 rpretazione evolutiva risultano sempre più inseparabili.\nNel corso dell'
 evento saranno presentati alcuni "cantieri" di ricerca esplorativa volti a
  sperimentare nuovi approcci di analisi integrata dei dati e delle tassono
 mie di osservazione del lavoro\, con particolare riferimento al sistema in
 formativo dell’Atlante del Lavoro e delle Qualificazioni\, e\, grazie al
  contributo di diversi stakeholder\, si avrà modo di approfondire il tema
  dell’analisi dei dati e dell’uso dell’informazione a supporto del p
 olicy &amp\; decision making.\nL’Atlante del lavoro e delle qualificazio
 ni è un sistema classificatorio e informativo che descrive il lavoro attr
 averso 24 settori economico-professionali e mappa le qualificazioni rilasc
 iate in Italia dagli enti pubblici titolari. Sviluppato per supportare la 
 creazione del Repertorio Nazionale dei Titoli di Istruzione\, Formazione d
 elle Qualificazioni Professionali\, come previsto dal Decreto Legislativo 
 n. 13/2013\, è il frutto di un processo partecipato che coinvolge istituz
 ioni\, parti sociali\, associazioni professionali\, esperti di settore e a
 ltri stakeholder del sistema lavoro-formazione.\nDal 2024 l'Associazione h
 a iniziato a dialogare con l'INAPP per fornire dati aggiornati da destinar
 e alla sezione dell'Atlante dedicata alle Professioni non organizzate in o
 rdini e collegi. Il workshop in oggetto rientra in questo processo di scam
 bio e collaborazione.
LOCATION:http://xxx
END:VEVENT
BEGIN:VTIMEZONE
TZID:Europe/Rome
X-LIC-LOCATION:Europe/Rome
BEGIN:STANDARD
DTSTART:20251026T020000
TZOFFSETFROM:+0200
TZOFFSETTO:+0100
TZNAME:CET
END:STANDARD
END:VTIMEZONE
END:VCALENDARBEGIN:VCALENDAR
VERSION:2.0
PRODID:-//wp-events-plugin.com//7.2.3.1//EN
TZID:Europe/Rome
X-WR-TIMEZONE:Europe/Rome
BEGIN:VEVENT
UID:46@anpia.it
DTSTART;TZID=Europe/Rome:20251211T100000
DTEND;TZID=Europe/Rome:20251211T130000
DTSTAMP:20251124T140517Z
URL:https://anpia.it/eventi/workshop-inapp-presidente/
SUMMARY:Workshop INAPP -  Presidente
DESCRIPTION:L'Istituto nazionale per l’analisi delle politiche pubbliche 
 (INAPP) promuove il workshop Connettere per comprendere: l’Atlante come 
 quadro integrato per l’analisi del lavoro per mettere in luce come le tr
 asformazioni in atto nel mondo del lavoro richiedano modelli integrati\, c
 apaci di coniugare i dati quantitativi con la rappresentazione dinamica de
 i fenomeni osservati\, verso approcci di analisi in cui misurazione e inte
 rpretazione evolutiva risultano sempre più inseparabili.\nNel corso dell'
 evento saranno presentati alcuni "cantieri" di ricerca esplorativa volti a
  sperimentare nuovi approcci di analisi integrata dei dati e delle tassono
 mie di osservazione del lavoro\, con particolare riferimento al sistema in
 formativo dell’Atlante del Lavoro e delle Qualificazioni\, e\, grazie al
  contributo di diversi stakeholder\, si avrà modo di approfondire il tema
  dell’analisi dei dati e dell’uso dell’informazione a supporto del p
 olicy &amp\; decision making.\nL’Atlante del lavoro e delle qualificazio
 ni è un sistema classificatorio e informativo che descrive il lavoro attr
 averso 24 settori economico-professionali e mappa le qualificazioni rilasc
 iate in Italia dagli enti pubblici titolari. Sviluppato per supportare la 
 creazione del Repertorio Nazionale dei Titoli di Istruzione\, Formazione d
 elle Qualificazioni Professionali\, come previsto dal Decreto Legislativo 
 n. 13/2013\, è il frutto di un processo partecipato che coinvolge istituz
 ioni\, parti sociali\, associazioni professionali\, esperti di settore e a
 ltri stakeholder del sistema lavoro-formazione.\nDal 2024 l'Associazione h
 a iniziato a dialogare con l'INAPP per fornire dati aggiornati da destinar
 e alla sezione dell'Atlante dedicata alle Professioni non organizzate in o
 rdini e collegi. Il workshop in oggetto rientra in questo processo di scam
 bio e collaborazione.
LOCATION:http://xxx
END:VEVENT
BEGIN:VTIMEZONE
TZID:Europe/Rome
X-LIC-LOCATION:Europe/Rome
BEGIN:STANDARD
DTSTART:20251026T020000
TZOFFSETFROM:+0200
TZOFFSETTO:+0100
TZNAME:CET
END:STANDARD
END:VTIMEZONE
END:VCALENDAR