BEGIN:VCALENDAR
VERSION:2.0
PRODID:-//wp-events-plugin.com//7.2.3.1//EN
TZID:Europe/Rome
X-WR-TIMEZONE:Europe/Rome
BEGIN:VEVENT
UID:48@anpia.it
DTSTART;TZID=Europe/Rome:20251124T180000
DTEND;TZID=Europe/Rome:20251124T200000
DTSTAMP:20251124T134201Z
URL:https://anpia.it/eventi/webinar-phronesis-presidente-e-consigliere/
SUMMARY:Webinar Phronesis - Presidente e consigliere
DESCRIPTION:L'Associazione\, dietro invito del presidente Giorgio Giacomett
 i\, partecipa al webinar organizzato da Phronesis - Associazione Italiana 
 per la Consulenza Filosofica\, parte del CoLAP.\nL'argomento del webinar\,
  destinato ai soci/socie dell'ente\, è la professionalizzazione\, in part
 icolare\, l'importanza dell'aggiornamento professionale continuo.\nLa part
 ecipazione di ANPIA è considerata nell'ottica di condividere l'esperienza
  maturata in termini di criteri\, strategie e finalità.\n
LOCATION:https://us06web.zoom.us/j/89863338113?pwd=aHIvdUFXOHFjSWZWdE5odEdK
 RjQ5Zz09
END:VEVENT
BEGIN:VTIMEZONE
TZID:Europe/Rome
X-LIC-LOCATION:Europe/Rome
BEGIN:STANDARD
DTSTART:20251026T020000
TZOFFSETFROM:+0200
TZOFFSETTO:+0100
TZNAME:CET
END:STANDARD
END:VTIMEZONE
END:VCALENDARBEGIN:VCALENDAR
VERSION:2.0
PRODID:-//wp-events-plugin.com//7.2.3.1//EN
TZID:Europe/Rome
X-WR-TIMEZONE:Europe/Rome
BEGIN:VEVENT
UID:48@anpia.it
DTSTART;TZID=Europe/Rome:20251124T180000
DTEND;TZID=Europe/Rome:20251124T200000
DTSTAMP:20251124T134201Z
URL:https://anpia.it/eventi/webinar-phronesis-presidente-e-consigliere/
SUMMARY:Webinar Phronesis - Presidente e consigliere
DESCRIPTION:L'Associazione\, dietro invito del presidente Giorgio Giacomett
 i\, partecipa al webinar organizzato da Phronesis - Associazione Italiana 
 per la Consulenza Filosofica\, parte del CoLAP.\nL'argomento del webinar\,
  destinato ai soci/socie dell'ente\, è la professionalizzazione\, in part
 icolare\, l'importanza dell'aggiornamento professionale continuo.\nLa part
 ecipazione di ANPIA è considerata nell'ottica di condividere l'esperienza
  maturata in termini di criteri\, strategie e finalità.\n
LOCATION:https://us06web.zoom.us/j/89863338113?pwd=aHIvdUFXOHFjSWZWdE5odEdK
 RjQ5Zz09
END:VEVENT
BEGIN:VTIMEZONE
TZID:Europe/Rome
X-LIC-LOCATION:Europe/Rome
BEGIN:STANDARD
DTSTART:20251026T020000
TZOFFSETFROM:+0200
TZOFFSETTO:+0100
TZNAME:CET
END:STANDARD
END:VTIMEZONE
END:VCALENDAR