BEGIN:VCALENDAR
VERSION:2.0
PRODID:-//wp-events-plugin.com//7.2.3.1//EN
TZID:Europe/Rome
X-WR-TIMEZONE:Europe/Rome
BEGIN:VEVENT
UID:64@anpia.it
DTSTART;TZID=Europe/Rome:20260325T150000
DTEND;TZID=Europe/Rome:20260325T154500
DTSTAMP:20260327T075738Z
URL:https://anpia.it/eventi/webinar-di-presentazione-del-catalogo-formativ
 o-2026-dellinmp-vicepresidente/
SUMMARY:Webinar di presentazione del Catalogo Formativo 2026 dell’INMP - 
 Vicepresidente
DESCRIPTION:L'Associazione\, in qualità di ente di rappresentanza della ca
 tegoria professionale de3 antropolog3\, è invitata\, insieme ad altri ord
 ini professionali (vari professionisti della salute)\, al webinar organizz
 ato dall'INMP - Istituto Nazionale per la promozione della salute delle po
 polazioni Migranti e per il contrasto delle malattie della Povertà\, tenu
 to esclusivamente online\, il 25/03/2026\, alle ore 15.00\,  e finalizzat
 o alla presentazione del catalogo formativo 2026\, che comprendere formazi
 oni - la cui iscrizione è a carattere gratuito - di possibile interesse p
 er gli associati. Presenzia l'evento il vicepresidente\, Flavio Lorenzoni.
 \nL’incontro rappresenterà un’importante occasione per conoscere nel 
 dettaglio l’offerta formativa 2026\, approfondendone le tematiche centra
 li - quali salute\, migrazioni e contrasto alle disuguaglianze - e confron
 tarsi con i Responsabili scientifici dei corsi.
LOCATION:https://teams.microsoft.com/meet/31011827213851?p=1k09blJ49Xd5dUes
 Uo
END:VEVENT
BEGIN:VTIMEZONE
TZID:Europe/Rome
X-LIC-LOCATION:Europe/Rome
BEGIN:STANDARD
DTSTART:20251026T020000
TZOFFSETFROM:+0200
TZOFFSETTO:+0100
TZNAME:CET
END:STANDARD
END:VTIMEZONE
END:VCALENDARBEGIN:VCALENDAR
VERSION:2.0
PRODID:-//wp-events-plugin.com//7.2.3.1//EN
TZID:Europe/Rome
X-WR-TIMEZONE:Europe/Rome
BEGIN:VEVENT
UID:64@anpia.it
DTSTART;TZID=Europe/Rome:20260325T150000
DTEND;TZID=Europe/Rome:20260325T154500
DTSTAMP:20260327T075738Z
URL:https://anpia.it/eventi/webinar-di-presentazione-del-catalogo-formativ
 o-2026-dellinmp-vicepresidente/
SUMMARY:Webinar di presentazione del Catalogo Formativo 2026 dell’INMP - 
 Vicepresidente
DESCRIPTION:L'Associazione\, in qualità di ente di rappresentanza della ca
 tegoria professionale de3 antropolog3\, è invitata\, insieme ad altri ord
 ini professionali (vari professionisti della salute)\, al webinar organizz
 ato dall'INMP - Istituto Nazionale per la promozione della salute delle po
 polazioni Migranti e per il contrasto delle malattie della Povertà\, tenu
 to esclusivamente online\, il 25/03/2026\, alle ore 15.00\,  e finalizzat
 o alla presentazione del catalogo formativo 2026\, che comprendere formazi
 oni - la cui iscrizione è a carattere gratuito - di possibile interesse p
 er gli associati. Presenzia l'evento il vicepresidente\, Flavio Lorenzoni.
 \nL’incontro rappresenterà un’importante occasione per conoscere nel 
 dettaglio l’offerta formativa 2026\, approfondendone le tematiche centra
 li - quali salute\, migrazioni e contrasto alle disuguaglianze - e confron
 tarsi con i Responsabili scientifici dei corsi.
LOCATION:https://teams.microsoft.com/meet/31011827213851?p=1k09blJ49Xd5dUes
 Uo
END:VEVENT
BEGIN:VTIMEZONE
TZID:Europe/Rome
X-LIC-LOCATION:Europe/Rome
BEGIN:STANDARD
DTSTART:20251026T020000
TZOFFSETFROM:+0200
TZOFFSETTO:+0100
TZNAME:CET
END:STANDARD
END:VTIMEZONE
END:VCALENDAR