BEGIN:VCALENDAR
VERSION:2.0
PRODID:-//wp-events-plugin.com//7.2.3.1//EN
TZID:Europe/Rome
X-WR-TIMEZONE:Europe/Rome
BEGIN:VEVENT
UID:35@anpia.it
DTSTART;TZID=Europe/Rome:20250925T093000
DTEND;TZID=Europe/Rome:20250925T110000
DTSTAMP:20250917T204349Z
URL:https://anpia.it/eventi/v-convegno-nazionale-siac-vicepresidente-anpia
 /
SUMMARY:V Convegno Nazionale SIAC - Vicepresidente ANPIA
DESCRIPTION:ANPIA mediante il Vicepresidente interverrà al V Convegno Nazi
 onale della Società Italiana di Antropologia Culturale (SIAC) dal titolo 
 Sperare/Disperare /Desiderare [Hope/Despair/Desire]\, che si terrà presso
  il  Campus dell'Università degli Studi della Basilicata dal 25 al 27 se
 ttembre 2025.\nIl convegno\, dedicato alla memoria di Ferdinando Fava (196
 0-2025)\, avrà inizio presso la Camera di Commercio della Basilicata\, do
 ve\, all'interno dei contributi istituzionali (previsti dalle 9.30 alle 11
 .00)\, interverrà il Vicepresidente ANPIA.\nInformazioni sull'evento aggi
 untive: https://www.siacantropologia.it/prodotti/sperare-disperare-desider
 are-3/
LOCATION:Sala Conferenze della Camera di Commercio della Basilicata\, via L
 ucana\, 82\, Matera\, Matera\, 75100\, Basilicata\, Italia
X-APPLE-STRUCTURED-LOCATION;VALUE=URI;X-ADDRESS=via Lucana\, 82\, Matera\, 
 Matera\, 75100\, Basilicata\, Italia;X-APPLE-RADIUS=100;X-TITLE=Sala Confe
 renze della Camera di Commercio della Basilicata:geo:0,0
END:VEVENT
BEGIN:VTIMEZONE
TZID:Europe/Rome
X-LIC-LOCATION:Europe/Rome
BEGIN:DAYLIGHT
DTSTART:20250330T030000
TZOFFSETFROM:+0100
TZOFFSETTO:+0200
TZNAME:CEST
END:DAYLIGHT
END:VTIMEZONE
END:VCALENDARBEGIN:VCALENDAR
VERSION:2.0
PRODID:-//wp-events-plugin.com//7.2.3.1//EN
TZID:Europe/Rome
X-WR-TIMEZONE:Europe/Rome
BEGIN:VEVENT
UID:35@anpia.it
DTSTART;TZID=Europe/Rome:20250925T093000
DTEND;TZID=Europe/Rome:20250925T110000
DTSTAMP:20250917T204349Z
URL:https://anpia.it/eventi/v-convegno-nazionale-siac-vicepresidente-anpia
 /
SUMMARY:V Convegno Nazionale SIAC - Vicepresidente ANPIA
DESCRIPTION:ANPIA mediante il Vicepresidente interverrà al V Convegno Nazi
 onale della Società Italiana di Antropologia Culturale (SIAC) dal titolo 
 Sperare/Disperare /Desiderare [Hope/Despair/Desire]\, che si terrà presso
  il  Campus dell'Università degli Studi della Basilicata dal 25 al 27 se
 ttembre 2025.\nIl convegno\, dedicato alla memoria di Ferdinando Fava (196
 0-2025)\, avrà inizio presso la Camera di Commercio della Basilicata\, do
 ve\, all'interno dei contributi istituzionali (previsti dalle 9.30 alle 11
 .00)\, interverrà il Vicepresidente ANPIA.\nInformazioni sull'evento aggi
 untive: https://www.siacantropologia.it/prodotti/sperare-disperare-desider
 are-3/
LOCATION:Sala Conferenze della Camera di Commercio della Basilicata\, via L
 ucana\, 82\, Matera\, Matera\, 75100\, Basilicata\, Italia
X-APPLE-STRUCTURED-LOCATION;VALUE=URI;X-ADDRESS=via Lucana\, 82\, Matera\, 
 Matera\, 75100\, Basilicata\, Italia;X-APPLE-RADIUS=100;X-TITLE=Sala Confe
 renze della Camera di Commercio della Basilicata:geo:0,0
END:VEVENT
BEGIN:VTIMEZONE
TZID:Europe/Rome
X-LIC-LOCATION:Europe/Rome
BEGIN:DAYLIGHT
DTSTART:20250330T030000
TZOFFSETFROM:+0100
TZOFFSETTO:+0200
TZNAME:CEST
END:DAYLIGHT
END:VTIMEZONE
END:VCALENDAR