BEGIN:VCALENDAR
VERSION:2.0
PRODID:-//wp-events-plugin.com//7.2.3.1//EN
TZID:Europe/Rome
X-WR-TIMEZONE:Europe/Rome
BEGIN:VEVENT
UID:4@anpia.it
DTSTART;TZID=Europe/Rome:20250222T090000
DTEND;TZID=Europe/Rome:20250222T120000
DTSTAMP:20250220T191608Z
URL:https://anpia.it/eventi/skills4what-anpia-world-antrhpology-day-milano
 -2025/
SUMMARY:Skills4what! - ANPIA World Antrhpology Day Milano 2025
DESCRIPTION:https://anpia.it/anthrodaymilano-2025-laboratorio-anpia-skills4
 what/\n\n&nbsp\;
LOCATION:Via Aldo Lusardi\, Via Aldo Lusardi\, 1\, Milano\, Italia
X-APPLE-STRUCTURED-LOCATION;VALUE=URI;X-ADDRESS=Via Aldo Lusardi\, 1\, Mila
 no\, Italia;X-APPLE-RADIUS=100;X-TITLE=Via Aldo Lusardi:geo:0,0
END:VEVENT
BEGIN:VTIMEZONE
TZID:Europe/Rome
X-LIC-LOCATION:Europe/Rome
BEGIN:STANDARD
DTSTART:20241027T020000
TZOFFSETFROM:+0200
TZOFFSETTO:+0100
TZNAME:CET
END:STANDARD
END:VTIMEZONE
END:VCALENDARBEGIN:VCALENDAR
VERSION:2.0
PRODID:-//wp-events-plugin.com//7.2.3.1//EN
TZID:Europe/Rome
X-WR-TIMEZONE:Europe/Rome
BEGIN:VEVENT
UID:4@anpia.it
DTSTART;TZID=Europe/Rome:20250222T090000
DTEND;TZID=Europe/Rome:20250222T120000
DTSTAMP:20250220T191608Z
URL:https://anpia.it/eventi/skills4what-anpia-world-antrhpology-day-milano
 -2025/
SUMMARY:Skills4what! - ANPIA World Antrhpology Day Milano 2025
DESCRIPTION:https://anpia.it/anthrodaymilano-2025-laboratorio-anpia-skills4
 what/\n\n&nbsp\;
LOCATION:Via Aldo Lusardi\, Via Aldo Lusardi\, 1\, Milano\, Italia
X-APPLE-STRUCTURED-LOCATION;VALUE=URI;X-ADDRESS=Via Aldo Lusardi\, 1\, Mila
 no\, Italia;X-APPLE-RADIUS=100;X-TITLE=Via Aldo Lusardi:geo:0,0
END:VEVENT
BEGIN:VTIMEZONE
TZID:Europe/Rome
X-LIC-LOCATION:Europe/Rome
BEGIN:STANDARD
DTSTART:20241027T020000
TZOFFSETFROM:+0200
TZOFFSETTO:+0100
TZNAME:CET
END:STANDARD
END:VTIMEZONE
END:VCALENDAR