BEGIN:VCALENDAR
VERSION:2.0
PRODID:-//wp-events-plugin.com//7.2.3.1//EN
TZID:Europe/Rome
X-WR-TIMEZONE:Europe/Rome
BEGIN:VEVENT
UID:50@anpia.it
DTSTART;TZID=Europe/Rome:20251204T130000
DTEND;TZID=Europe/Rome:20251204T150000
DTSTAMP:20251124T140217Z
URL:https://anpia.it/eventi/seminario-lavorare-con-lantropologia-corso-ant
 ropologia-applicata-unibo-vicepresidente/
SUMMARY:Seminario Lavorare con l'antropologia Corso Antropologia Applicata 
 UNIBo - Vicepresidente
DESCRIPTION:Il Vicepresidente partecipa al seminario promosso dal Corso di 
 Antropologia Applicata 2024/25\, prof. Roberta Bonetti\, del Dipartimento 
 Storia Culture Civiltà\, Alma Mater Studiorum-Università di Bologna.\nTi
 tolo dell'intervento è "Lavorare con l'antropologia. Dal panorama profess
 ionale italiano all'antropologia del patrimonio. Dati e strumenti".\nGli a
 rgomenti presentati saranno:  i risultati del primo report sull'antropolo
 gia professionale in Italia\, pubblicato da ANPIA a fine 2024\; l'antropol
 ogia del Patrimonio\; gli elenchi dei professionisti del MiC.\nL'evento sa
 rà in presenza.
LOCATION:Aula Grande\, Piazza San Giovanni in Monte 2\,\, Bologna\, 40120\,
  Emilia Romagna\, Italia
X-APPLE-STRUCTURED-LOCATION;VALUE=URI;X-ADDRESS=Piazza San Giovanni in Mont
 e 2\,\, Bologna\, 40120\, Emilia Romagna\, Italia;X-APPLE-RADIUS=100;X-TIT
 LE=Aula Grande:geo:0,0
END:VEVENT
BEGIN:VTIMEZONE
TZID:Europe/Rome
X-LIC-LOCATION:Europe/Rome
BEGIN:STANDARD
DTSTART:20251026T020000
TZOFFSETFROM:+0200
TZOFFSETTO:+0100
TZNAME:CET
END:STANDARD
END:VTIMEZONE
END:VCALENDARBEGIN:VCALENDAR
VERSION:2.0
PRODID:-//wp-events-plugin.com//7.2.3.1//EN
TZID:Europe/Rome
X-WR-TIMEZONE:Europe/Rome
BEGIN:VEVENT
UID:50@anpia.it
DTSTART;TZID=Europe/Rome:20251204T130000
DTEND;TZID=Europe/Rome:20251204T150000
DTSTAMP:20251124T140217Z
URL:https://anpia.it/eventi/seminario-lavorare-con-lantropologia-corso-ant
 ropologia-applicata-unibo-vicepresidente/
SUMMARY:Seminario Lavorare con l'antropologia Corso Antropologia Applicata 
 UNIBo - Vicepresidente
DESCRIPTION:Il Vicepresidente partecipa al seminario promosso dal Corso di 
 Antropologia Applicata 2024/25\, prof. Roberta Bonetti\, del Dipartimento 
 Storia Culture Civiltà\, Alma Mater Studiorum-Università di Bologna.\nTi
 tolo dell'intervento è "Lavorare con l'antropologia. Dal panorama profess
 ionale italiano all'antropologia del patrimonio. Dati e strumenti".\nGli a
 rgomenti presentati saranno:  i risultati del primo report sull'antropolo
 gia professionale in Italia\, pubblicato da ANPIA a fine 2024\; l'antropol
 ogia del Patrimonio\; gli elenchi dei professionisti del MiC.\nL'evento sa
 rà in presenza.
LOCATION:Aula Grande\, Piazza San Giovanni in Monte 2\,\, Bologna\, 40120\,
  Emilia Romagna\, Italia
X-APPLE-STRUCTURED-LOCATION;VALUE=URI;X-ADDRESS=Piazza San Giovanni in Mont
 e 2\,\, Bologna\, 40120\, Emilia Romagna\, Italia;X-APPLE-RADIUS=100;X-TIT
 LE=Aula Grande:geo:0,0
END:VEVENT
BEGIN:VTIMEZONE
TZID:Europe/Rome
X-LIC-LOCATION:Europe/Rome
BEGIN:STANDARD
DTSTART:20251026T020000
TZOFFSETFROM:+0200
TZOFFSETTO:+0100
TZNAME:CET
END:STANDARD
END:VTIMEZONE
END:VCALENDAR