BEGIN:VCALENDAR
VERSION:2.0
PRODID:-//wp-events-plugin.com//7.2.3.1//EN
TZID:Europe/Rome
X-WR-TIMEZONE:Europe/Rome
BEGIN:VEVENT
UID:68@anpia.it
DTSTART;TZID=Europe/Rome:20260430T090000
DTEND;TZID=Europe/Rome:20260430T130000
DTSTAMP:20260424T124310Z
URL:https://anpia.it/eventi/seminario-antropologia-settore-socio-sanitario
 -inmp-anpia-siam-siaa/
SUMMARY:Seminario antropologia sanità e welfare - INMP-ANPIA-SIAM-SIAA
DESCRIPTION:L'INMP - Istituto Nazionale Migrazione e Povertà di Roma ha or
 ganizzato il 30/04/2026 un seminario\, dalle ore 9.00 alle 13.00\, presso 
 la sede dell'ente\, che vede il coinvolgimento dell'Associazione insieme a
 lle società scientifiche SIAM - Società Italiana di Antropologia Medica 
 e SIAA - Società Italiana di Antropologia Applicata e al CoLAP - Coordina
 mento delle Libere Associazioni Professionali\, con l'obietto di rifletter
 e insieme sullo stato dell'arte dei professionist3 antropolog3 che lavoran
 o nei settori sanitario e del welfare\, focalizzando l'attenzione sulle re
 altà sommerse e sulle strategie di advocacy e lobby da mettere in campo\,
  per rendere i professionist3 maggiormente identificabili nel settore\, me
 glio rappresentati al cospetto di istituzioni\, enti e imprese\, e più tu
 telati in termini contrattuali\, finanziari e previdenziali.\nIl seminario
  si svolgerà solamente in presenza\, presso l'Aula Agostini dell'INMP\, i
 n via S. Gallicano 25/a\, Roma.\nPer l'Associazione relazionerà la socia 
 Veronica Buffon\, per la SIAM e la SIAA le socie Chiara Moretti e Michela 
 Marchetti\, per il CoLAP Giuseppe Montanini.\nPer maggiori informazione - 
 programma e modalità di iscrizione - raggiungere la pagina INMP dedicata:
  https://www.inmp.it/ita/Formazione/Eventi-formativi/Eventi-formativi-2026
 /Seminario-Antropologia-e-sanita-pratiche-di-consulenza-e-sviluppi-attuali
 -aperte-le-iscrizioni.
LOCATION:INMP\, Via di S. Galliano\, 25/a\, Roma\, Roma\, 00153\, Italia
X-APPLE-STRUCTURED-LOCATION;VALUE=URI;X-ADDRESS=Via di S. Galliano\, 25/a\,
  Roma\, Roma\, 00153\, Italia;X-APPLE-RADIUS=100;X-TITLE=INMP:geo:0,0
END:VEVENT
BEGIN:VTIMEZONE
TZID:Europe/Rome
X-LIC-LOCATION:Europe/Rome
BEGIN:DAYLIGHT
DTSTART:20260329T030000
TZOFFSETFROM:+0100
TZOFFSETTO:+0200
TZNAME:CEST
END:DAYLIGHT
END:VTIMEZONE
END:VCALENDARBEGIN:VCALENDAR
VERSION:2.0
PRODID:-//wp-events-plugin.com//7.2.3.1//EN
TZID:Europe/Rome
X-WR-TIMEZONE:Europe/Rome
BEGIN:VEVENT
UID:68@anpia.it
DTSTART;TZID=Europe/Rome:20260430T090000
DTEND;TZID=Europe/Rome:20260430T130000
DTSTAMP:20260424T124310Z
URL:https://anpia.it/eventi/seminario-antropologia-settore-socio-sanitario
 -inmp-anpia-siam-siaa/
SUMMARY:Seminario antropologia sanità e welfare - INMP-ANPIA-SIAM-SIAA
DESCRIPTION:L'INMP - Istituto Nazionale Migrazione e Povertà di Roma ha or
 ganizzato il 30/04/2026 un seminario\, dalle ore 9.00 alle 13.00\, presso 
 la sede dell'ente\, che vede il coinvolgimento dell'Associazione insieme a
 lle società scientifiche SIAM - Società Italiana di Antropologia Medica 
 e SIAA - Società Italiana di Antropologia Applicata e al CoLAP - Coordina
 mento delle Libere Associazioni Professionali\, con l'obietto di rifletter
 e insieme sullo stato dell'arte dei professionist3 antropolog3 che lavoran
 o nei settori sanitario e del welfare\, focalizzando l'attenzione sulle re
 altà sommerse e sulle strategie di advocacy e lobby da mettere in campo\,
  per rendere i professionist3 maggiormente identificabili nel settore\, me
 glio rappresentati al cospetto di istituzioni\, enti e imprese\, e più tu
 telati in termini contrattuali\, finanziari e previdenziali.\nIl seminario
  si svolgerà solamente in presenza\, presso l'Aula Agostini dell'INMP\, i
 n via S. Gallicano 25/a\, Roma.\nPer l'Associazione relazionerà la socia 
 Veronica Buffon\, per la SIAM e la SIAA le socie Chiara Moretti e Michela 
 Marchetti\, per il CoLAP Giuseppe Montanini.\nPer maggiori informazione - 
 programma e modalità di iscrizione - raggiungere la pagina INMP dedicata:
  https://www.inmp.it/ita/Formazione/Eventi-formativi/Eventi-formativi-2026
 /Seminario-Antropologia-e-sanita-pratiche-di-consulenza-e-sviluppi-attuali
 -aperte-le-iscrizioni.
LOCATION:INMP\, Via di S. Galliano\, 25/a\, Roma\, Roma\, 00153\, Italia
X-APPLE-STRUCTURED-LOCATION;VALUE=URI;X-ADDRESS=Via di S. Galliano\, 25/a\,
  Roma\, Roma\, 00153\, Italia;X-APPLE-RADIUS=100;X-TITLE=INMP:geo:0,0
END:VEVENT
BEGIN:VTIMEZONE
TZID:Europe/Rome
X-LIC-LOCATION:Europe/Rome
BEGIN:DAYLIGHT
DTSTART:20260329T030000
TZOFFSETFROM:+0100
TZOFFSETTO:+0200
TZNAME:CEST
END:DAYLIGHT
END:VTIMEZONE
END:VCALENDAR