BEGIN:VCALENDAR
VERSION:2.0
PRODID:-//wp-events-plugin.com//7.2.3.1//EN
TZID:Europe/Rome
X-WR-TIMEZONE:Europe/Rome
BEGIN:VEVENT
UID:36@anpia.it
DTSTART;TZID=Europe/Rome:20251111T180000
DTEND;TZID=Europe/Rome:20251111T190000
DTSTAMP:20251006T130554Z
URL:https://anpia.it/eventi/salute-di-prossimita-formazione-orizzontale-tr
 a-soc3/
SUMMARY:Salute di prossimità - Formazione orizzontale tra soc3
DESCRIPTION:Secondo incontro del ciclo di formazione orizzontale tra soc3 c
 he l'Associazione inaugura quest'anno\, dopo aver raccolto a maggio import
 anti spunti negli incontri tenuti con i soc3.\nTitolo dell'incontro: Salut
 e di prossimità: una panoramica sulle strategie di contatto e dispositivi
  di relazione.\nRelatore: Ascanio Iannace.\nLink Zoom: https://zoom.us/j/9
 5957415908?pwd=7fSsdmDAaDewBztCyApskDor9Ha5Zu.1
LOCATION:https://zoom.us/j/95957415908?pwd=7fSsdmDAaDewBztCyApskDor9Ha5Zu.1
END:VEVENT
BEGIN:VTIMEZONE
TZID:Europe/Rome
X-LIC-LOCATION:Europe/Rome
BEGIN:STANDARD
DTSTART:20251026T020000
TZOFFSETFROM:+0200
TZOFFSETTO:+0100
TZNAME:CET
END:STANDARD
END:VTIMEZONE
END:VCALENDARBEGIN:VCALENDAR
VERSION:2.0
PRODID:-//wp-events-plugin.com//7.2.3.1//EN
TZID:Europe/Rome
X-WR-TIMEZONE:Europe/Rome
BEGIN:VEVENT
UID:36@anpia.it
DTSTART;TZID=Europe/Rome:20251111T180000
DTEND;TZID=Europe/Rome:20251111T190000
DTSTAMP:20251006T130554Z
URL:https://anpia.it/eventi/salute-di-prossimita-formazione-orizzontale-tr
 a-soc3/
SUMMARY:Salute di prossimità - Formazione orizzontale tra soc3
DESCRIPTION:Secondo incontro del ciclo di formazione orizzontale tra soc3 c
 he l'Associazione inaugura quest'anno\, dopo aver raccolto a maggio import
 anti spunti negli incontri tenuti con i soc3.\nTitolo dell'incontro: Salut
 e di prossimità: una panoramica sulle strategie di contatto e dispositivi
  di relazione.\nRelatore: Ascanio Iannace.\nLink Zoom: https://zoom.us/j/9
 5957415908?pwd=7fSsdmDAaDewBztCyApskDor9Ha5Zu.1
LOCATION:https://zoom.us/j/95957415908?pwd=7fSsdmDAaDewBztCyApskDor9Ha5Zu.1
END:VEVENT
BEGIN:VTIMEZONE
TZID:Europe/Rome
X-LIC-LOCATION:Europe/Rome
BEGIN:STANDARD
DTSTART:20251026T020000
TZOFFSETFROM:+0200
TZOFFSETTO:+0100
TZNAME:CET
END:STANDARD
END:VTIMEZONE
END:VCALENDAR