BEGIN:VCALENDAR
VERSION:2.0
PRODID:-//wp-events-plugin.com//7.2.3.1//EN
TZID:Europe/Rome
X-WR-TIMEZONE:Europe/Rome
BEGIN:VEVENT
UID:8@anpia.it
DTSTART;TZID=Europe/Rome:20250227T180000
DTEND;TZID=Europe/Rome:20250227T190000
DTSTAMP:20250225T215747Z
URL:https://anpia.it/eventi/riunione-online-consiglio-direttivo-e-centro-i
 ndipendente-studi-alta-valle-del-volturno-aps/
SUMMARY:Riunione Consiglio direttivo e Centro Indipendente Studi Alta Valle
  del Volturno – APS
DESCRIPTION:Inizio collaborazione: Co-progettazione attività congiunte
LOCATION:http://meet.google.com/hnj-cqeg-vdv
END:VEVENT
BEGIN:VTIMEZONE
TZID:Europe/Rome
X-LIC-LOCATION:Europe/Rome
BEGIN:STANDARD
DTSTART:20241027T020000
TZOFFSETFROM:+0200
TZOFFSETTO:+0100
TZNAME:CET
END:STANDARD
END:VTIMEZONE
END:VCALENDARBEGIN:VCALENDAR
VERSION:2.0
PRODID:-//wp-events-plugin.com//7.2.3.1//EN
TZID:Europe/Rome
X-WR-TIMEZONE:Europe/Rome
BEGIN:VEVENT
UID:8@anpia.it
DTSTART;TZID=Europe/Rome:20250227T180000
DTEND;TZID=Europe/Rome:20250227T190000
DTSTAMP:20250225T215747Z
URL:https://anpia.it/eventi/riunione-online-consiglio-direttivo-e-centro-i
 ndipendente-studi-alta-valle-del-volturno-aps/
SUMMARY:Riunione Consiglio direttivo e Centro Indipendente Studi Alta Valle
  del Volturno – APS
DESCRIPTION:Inizio collaborazione: Co-progettazione attività congiunte
LOCATION:http://meet.google.com/hnj-cqeg-vdv
END:VEVENT
BEGIN:VTIMEZONE
TZID:Europe/Rome
X-LIC-LOCATION:Europe/Rome
BEGIN:STANDARD
DTSTART:20241027T020000
TZOFFSETFROM:+0200
TZOFFSETTO:+0100
TZNAME:CET
END:STANDARD
END:VTIMEZONE
END:VCALENDAR