BEGIN:VCALENDAR
VERSION:2.0
PRODID:-//wp-events-plugin.com//7.2.3.1//EN
TZID:Europe/Rome
X-WR-TIMEZONE:Europe/Rome
BEGIN:VEVENT
UID:26@anpia.it
DTSTART;TZID=Europe/Rome:20250708T183000
DTEND;TZID=Europe/Rome:20250708T193000
DTSTAMP:20250708T153225Z
URL:https://anpia.it/eventi/riunione-mensile-consiglio-direttivo/
SUMMARY:Riunione mensile - Consiglio direttivo
DESCRIPTION:Ordine del giorno (O.d.G):\n\n 	Verbalizzazione delle decisioni
  prese dal Consiglio direttivo mediante voto online via e-mail\;\n 	Verbal
 izzazione delle nuove richieste di associatura pervenute alla Segreteria\,
  valutate e approvate mediante voto online via e-mail\;\n 	Definizione e a
 pprovazione del budget per la missione di Lorenzoni e Gallinaro alla XIII 
 edizione del “Why the World Needs Anthropologists” della SIAA\, ottobr
 e 2025\, Bologna e per la missione di Lorenzoni e la socia Benciolini al V
  convegno nazionale “Sperare/Disperare/Desiderare” della SIAC\, settem
 bre 2025\, Matera\;\n 	Aggiornamenti vari della presidente\;\n 	Aggiorname
 nto sui tirocini del vicepresidente\;\n 	Visione\, modifica e approvazione
  piano editoriale luglio\;\n 	Definizione periodo chiusura segreteria agos
 to\;\n 	Varie ed eventuali.\n
LOCATION:http://meegoogle.com/rfc-whge-iub
END:VEVENT
BEGIN:VTIMEZONE
TZID:Europe/Rome
X-LIC-LOCATION:Europe/Rome
BEGIN:DAYLIGHT
DTSTART:20250330T030000
TZOFFSETFROM:+0100
TZOFFSETTO:+0200
TZNAME:CEST
END:DAYLIGHT
END:VTIMEZONE
END:VCALENDARBEGIN:VCALENDAR
VERSION:2.0
PRODID:-//wp-events-plugin.com//7.2.3.1//EN
TZID:Europe/Rome
X-WR-TIMEZONE:Europe/Rome
BEGIN:VEVENT
UID:26@anpia.it
DTSTART;TZID=Europe/Rome:20250708T183000
DTEND;TZID=Europe/Rome:20250708T193000
DTSTAMP:20250708T153225Z
URL:https://anpia.it/eventi/riunione-mensile-consiglio-direttivo/
SUMMARY:Riunione mensile - Consiglio direttivo
DESCRIPTION:Ordine del giorno (O.d.G):\n\n 	Verbalizzazione delle decisioni
  prese dal Consiglio direttivo mediante voto online via e-mail\;\n 	Verbal
 izzazione delle nuove richieste di associatura pervenute alla Segreteria\,
  valutate e approvate mediante voto online via e-mail\;\n 	Definizione e a
 pprovazione del budget per la missione di Lorenzoni e Gallinaro alla XIII 
 edizione del “Why the World Needs Anthropologists” della SIAA\, ottobr
 e 2025\, Bologna e per la missione di Lorenzoni e la socia Benciolini al V
  convegno nazionale “Sperare/Disperare/Desiderare” della SIAC\, settem
 bre 2025\, Matera\;\n 	Aggiornamenti vari della presidente\;\n 	Aggiorname
 nto sui tirocini del vicepresidente\;\n 	Visione\, modifica e approvazione
  piano editoriale luglio\;\n 	Definizione periodo chiusura segreteria agos
 to\;\n 	Varie ed eventuali.\n
LOCATION:http://meegoogle.com/rfc-whge-iub
END:VEVENT
BEGIN:VTIMEZONE
TZID:Europe/Rome
X-LIC-LOCATION:Europe/Rome
BEGIN:DAYLIGHT
DTSTART:20250330T030000
TZOFFSETFROM:+0100
TZOFFSETTO:+0200
TZNAME:CEST
END:DAYLIGHT
END:VTIMEZONE
END:VCALENDAR