BEGIN:VCALENDAR
VERSION:2.0
PRODID:-//wp-events-plugin.com//7.2.3.1//EN
TZID:Europe/Rome
X-WR-TIMEZONE:Europe/Rome
BEGIN:VEVENT
UID:60@anpia.it
DTSTART;TZID=Europe/Rome:20260303T183000
DTEND;TZID=Europe/Rome:20260303T193000
DTSTAMP:20260227T081728Z
URL:https://anpia.it/eventi/riunione-mensile-consiglio-direttivo-8/
SUMMARY:Riunione mensile - Consiglio direttivo
DESCRIPTION:Ordine del giorno:\n\n 	Verbalizzazione decisioni prese dal Con
 siglio direttivo mediante voto online via e-mail\;\n 	Verbalizzazione nuov
 e richieste di associatura pervenute alla Segreteria\, valutate e approvat
 e mediante voto online via e-mail\;\n 	Aggiornamento su procedura di vigil
 anza del ministero dalla presidente\;\n 	Presentazione attività 2026 web 
 master e approvazione preventivo preliminare\;\n 	Presentazione attività 
 2026 social media manager e approvazione preventivo preliminare (comprensi
 vo della proposta di budget per la campagna soci)\;\n 	Programma assemblea
  dei soci e socie 2026 di aprile\;\n 	Varie ed eventuali.\n
LOCATION:http://meet.google.com/jnx-yzon-wee
END:VEVENT
BEGIN:VTIMEZONE
TZID:Europe/Rome
X-LIC-LOCATION:Europe/Rome
BEGIN:STANDARD
DTSTART:20251026T020000
TZOFFSETFROM:+0200
TZOFFSETTO:+0100
TZNAME:CET
END:STANDARD
END:VTIMEZONE
END:VCALENDARBEGIN:VCALENDAR
VERSION:2.0
PRODID:-//wp-events-plugin.com//7.2.3.1//EN
TZID:Europe/Rome
X-WR-TIMEZONE:Europe/Rome
BEGIN:VEVENT
UID:60@anpia.it
DTSTART;TZID=Europe/Rome:20260303T183000
DTEND;TZID=Europe/Rome:20260303T193000
DTSTAMP:20260227T081728Z
URL:https://anpia.it/eventi/riunione-mensile-consiglio-direttivo-8/
SUMMARY:Riunione mensile - Consiglio direttivo
DESCRIPTION:Ordine del giorno:\n\n 	Verbalizzazione decisioni prese dal Con
 siglio direttivo mediante voto online via e-mail\;\n 	Verbalizzazione nuov
 e richieste di associatura pervenute alla Segreteria\, valutate e approvat
 e mediante voto online via e-mail\;\n 	Aggiornamento su procedura di vigil
 anza del ministero dalla presidente\;\n 	Presentazione attività 2026 web 
 master e approvazione preventivo preliminare\;\n 	Presentazione attività 
 2026 social media manager e approvazione preventivo preliminare (comprensi
 vo della proposta di budget per la campagna soci)\;\n 	Programma assemblea
  dei soci e socie 2026 di aprile\;\n 	Varie ed eventuali.\n
LOCATION:http://meet.google.com/jnx-yzon-wee
END:VEVENT
BEGIN:VTIMEZONE
TZID:Europe/Rome
X-LIC-LOCATION:Europe/Rome
BEGIN:STANDARD
DTSTART:20251026T020000
TZOFFSETFROM:+0200
TZOFFSETTO:+0100
TZNAME:CET
END:STANDARD
END:VTIMEZONE
END:VCALENDAR