BEGIN:VCALENDAR
VERSION:2.0
PRODID:-//wp-events-plugin.com//7.2.3.1//EN
TZID:Europe/Rome
X-WR-TIMEZONE:Europe/Rome
BEGIN:VEVENT
UID:56@anpia.it
DTSTART;TZID=Europe/Rome:20260203T183000
DTEND;TZID=Europe/Rome:20260203T193000
DTSTAMP:20260130T152055Z
URL:https://anpia.it/eventi/riunione-mensile-consiglio-direttivo-7/
SUMMARY:Riunione mensile - Consiglio direttivo
DESCRIPTION:Ordine del giorno:\n\n 	Verbalizzazione decisioni prese dal Con
 siglio direttivo mediante voto online via e-mail\;\n 	Verbalizzazione nuov
 e richieste di associatura pervenute alla Segreteria\, valutate e approvat
 e mediante voto online via e-mail\;\n 	Illustrazione della Presidente dei 
 cambiamenti necessari al Regolamento interno e al Codice deontologico in r
 isposta alle verifiche ministeriali (MIMIT) dei dati assiciativi (08/2025)
 \;\n 	Relazione del Consiglio dei saggi sugli esiti della verifica dell'ag
 giornato professionale\, anni 2023-2024\;\n 	Aggiornamento del Vicepreside
 nte sull'evento promosso dall'associazione con CISAV e realizzato il 31/01
 /2026\;\n 	Definizione degli ultimi aspetti dell'evento del 06/02/2026 ded
 icato ai festeggiati del decennale dell'associazione\;\n 	Resoconto della 
 Tesoriera sulle ipotesi di spesa annuali\, tra rinnovo contratti a profess
 ionisti e abbonamenti\, per valutare la sostenibilità dell'allocazione di
  nuovi budget alla campagna soci/e e a un nuovo contratto professionale (p
 rofilatore)\;\n 	Definizione delle tempistiche per la comunicazione ai soc
 i/e dell'apertura delle nuove candidature per rinnovo Consiglio direttivo\
 , Consiglio dei saggi\, Comitato scientifico e coordinamenti Commissione t
 ematiche\;\n 	Aggiornamento della Presidente dei nuovi eventi programmati 
 per la formazione tra pari e i webinar informativi sull’attività associ
 ativa\;\n 	Varie ed eventuali.\n
LOCATION:http://meet.google.com/tsa-mkbg-nsk
END:VEVENT
BEGIN:VTIMEZONE
TZID:Europe/Rome
X-LIC-LOCATION:Europe/Rome
BEGIN:STANDARD
DTSTART:20251026T020000
TZOFFSETFROM:+0200
TZOFFSETTO:+0100
TZNAME:CET
END:STANDARD
END:VTIMEZONE
END:VCALENDARBEGIN:VCALENDAR
VERSION:2.0
PRODID:-//wp-events-plugin.com//7.2.3.1//EN
TZID:Europe/Rome
X-WR-TIMEZONE:Europe/Rome
BEGIN:VEVENT
UID:56@anpia.it
DTSTART;TZID=Europe/Rome:20260203T183000
DTEND;TZID=Europe/Rome:20260203T193000
DTSTAMP:20260130T152055Z
URL:https://anpia.it/eventi/riunione-mensile-consiglio-direttivo-7/
SUMMARY:Riunione mensile - Consiglio direttivo
DESCRIPTION:Ordine del giorno:\n\n 	Verbalizzazione decisioni prese dal Con
 siglio direttivo mediante voto online via e-mail\;\n 	Verbalizzazione nuov
 e richieste di associatura pervenute alla Segreteria\, valutate e approvat
 e mediante voto online via e-mail\;\n 	Illustrazione della Presidente dei 
 cambiamenti necessari al Regolamento interno e al Codice deontologico in r
 isposta alle verifiche ministeriali (MIMIT) dei dati assiciativi (08/2025)
 \;\n 	Relazione del Consiglio dei saggi sugli esiti della verifica dell'ag
 giornato professionale\, anni 2023-2024\;\n 	Aggiornamento del Vicepreside
 nte sull'evento promosso dall'associazione con CISAV e realizzato il 31/01
 /2026\;\n 	Definizione degli ultimi aspetti dell'evento del 06/02/2026 ded
 icato ai festeggiati del decennale dell'associazione\;\n 	Resoconto della 
 Tesoriera sulle ipotesi di spesa annuali\, tra rinnovo contratti a profess
 ionisti e abbonamenti\, per valutare la sostenibilità dell'allocazione di
  nuovi budget alla campagna soci/e e a un nuovo contratto professionale (p
 rofilatore)\;\n 	Definizione delle tempistiche per la comunicazione ai soc
 i/e dell'apertura delle nuove candidature per rinnovo Consiglio direttivo\
 , Consiglio dei saggi\, Comitato scientifico e coordinamenti Commissione t
 ematiche\;\n 	Aggiornamento della Presidente dei nuovi eventi programmati 
 per la formazione tra pari e i webinar informativi sull’attività associ
 ativa\;\n 	Varie ed eventuali.\n
LOCATION:http://meet.google.com/tsa-mkbg-nsk
END:VEVENT
BEGIN:VTIMEZONE
TZID:Europe/Rome
X-LIC-LOCATION:Europe/Rome
BEGIN:STANDARD
DTSTART:20251026T020000
TZOFFSETFROM:+0200
TZOFFSETTO:+0100
TZNAME:CET
END:STANDARD
END:VTIMEZONE
END:VCALENDAR