BEGIN:VCALENDAR
VERSION:2.0
PRODID:-//wp-events-plugin.com//7.2.3.1//EN
TZID:Europe/Rome
X-WR-TIMEZONE:Europe/Rome
BEGIN:VEVENT
UID:45@anpia.it
DTSTART;TZID=Europe/Rome:20251216T183000
DTEND;TZID=Europe/Rome:20251216T193000
DTSTAMP:20251228T065424Z
URL:https://anpia.it/eventi/riunione-mensile-consiglio-direttivo-5/
SUMMARY:Riunione mensile - Consiglio direttivo
DESCRIPTION:L'ordine del giorno dell'incontro sarà il seguente:\n\n 	Verba
 lizzazione decisioni prese dal Consiglio direttivo mediante voto online vi
 a e-mail\;\n 	Verbalizzazione nuove richieste di associatura pervenute all
 a Segreteria\, valutate e approvate mediante voto online via e-mail\;\n 	A
 ggiornamenti presidente su attività di rappresentanza realizzate (UNIBo\,
  ISTAT\, neonato gruppo CoLAP beni culturali e patrimonio\, INAPP\, SIAC e
  SIAA)\;\n 	Aggiornamento vicepresidente su sviluppi seminario UNIBo (prof
 . Bonetti)\;\n 	Aggiornamento segretaria su incontro con socio interessato
  al coordinamento della CT scuola\, educazione\, formazione\;\n 	Bozza pro
 gramma anniversario 10 anni dell'associazione del 6/02\;\n 	Aggiornamento 
 tesoriera su ultime spese e possibile abbonamento a piattaforma assicurati
 va per scontistica a soci e socie che intendono stipulare un'assicurazione
  professionale\;\n 	Varie ed eventuali.\n
LOCATION:http://meet.google.com/yew-hsfh-zpt
END:VEVENT
BEGIN:VTIMEZONE
TZID:Europe/Rome
X-LIC-LOCATION:Europe/Rome
BEGIN:STANDARD
DTSTART:20251026T020000
TZOFFSETFROM:+0200
TZOFFSETTO:+0100
TZNAME:CET
END:STANDARD
END:VTIMEZONE
END:VCALENDARBEGIN:VCALENDAR
VERSION:2.0
PRODID:-//wp-events-plugin.com//7.2.3.1//EN
TZID:Europe/Rome
X-WR-TIMEZONE:Europe/Rome
BEGIN:VEVENT
UID:45@anpia.it
DTSTART;TZID=Europe/Rome:20251216T183000
DTEND;TZID=Europe/Rome:20251216T193000
DTSTAMP:20251228T065424Z
URL:https://anpia.it/eventi/riunione-mensile-consiglio-direttivo-5/
SUMMARY:Riunione mensile - Consiglio direttivo
DESCRIPTION:L'ordine del giorno dell'incontro sarà il seguente:\n\n 	Verba
 lizzazione decisioni prese dal Consiglio direttivo mediante voto online vi
 a e-mail\;\n 	Verbalizzazione nuove richieste di associatura pervenute all
 a Segreteria\, valutate e approvate mediante voto online via e-mail\;\n 	A
 ggiornamenti presidente su attività di rappresentanza realizzate (UNIBo\,
  ISTAT\, neonato gruppo CoLAP beni culturali e patrimonio\, INAPP\, SIAC e
  SIAA)\;\n 	Aggiornamento vicepresidente su sviluppi seminario UNIBo (prof
 . Bonetti)\;\n 	Aggiornamento segretaria su incontro con socio interessato
  al coordinamento della CT scuola\, educazione\, formazione\;\n 	Bozza pro
 gramma anniversario 10 anni dell'associazione del 6/02\;\n 	Aggiornamento 
 tesoriera su ultime spese e possibile abbonamento a piattaforma assicurati
 va per scontistica a soci e socie che intendono stipulare un'assicurazione
  professionale\;\n 	Varie ed eventuali.\n
LOCATION:http://meet.google.com/yew-hsfh-zpt
END:VEVENT
BEGIN:VTIMEZONE
TZID:Europe/Rome
X-LIC-LOCATION:Europe/Rome
BEGIN:STANDARD
DTSTART:20251026T020000
TZOFFSETFROM:+0200
TZOFFSETTO:+0100
TZNAME:CET
END:STANDARD
END:VTIMEZONE
END:VCALENDAR