BEGIN:VCALENDAR
VERSION:2.0
PRODID:-//wp-events-plugin.com//7.2.3.1//EN
TZID:Europe/Rome
X-WR-TIMEZONE:Europe/Rome
BEGIN:VEVENT
UID:32@anpia.it
DTSTART;TZID=Europe/Rome:20251007T183000
DTEND;TZID=Europe/Rome:20251007T193000
DTSTAMP:20251006T084835Z
URL:https://anpia.it/eventi/riunione-mensile-consiglio-direttivo-3/
SUMMARY:Riunione mensile - Consiglio direttivo
DESCRIPTION:O.d.G. della riunione:\n\n 	Verbalizzazione decisioni prese dal
  Consiglio direttivo mediante voto online via e-mail\;\n 	Verbalizzazione 
 nuove richieste di associatura pervenute alla Segreteria\, valutate e appr
 ovate mediante voto online via e-mail\;\n 	Aggiornamenti vicepresidente su
  eventi di rappresentanza associativa presenziati nei mesi di settembre (c
 onvegno SIAC\, Metera) e ottobre (convegno SIAA\, Bologna)\;\n 	Individuaz
 ione assicurazione e piano assicurativo da adottare\;\n 	Individuazione co
 rsi/master rispondenti al fabbisogno formativo 2025 rilevato\;\n 	Condivis
 ione associazioni professionali CoLAP da contattare per creazione gruppo d
 i lavoro su azioni di lobby congiunte\;\n 	Definizione tempistiche di cons
 egna delle modifiche alla documentazione (e al sito) richieste dalla verif
 ica effettuata dal MIMIT il 19/09/2025 (PEC)\;\n 	Calendarizzazione eventi
  di supporto agli iscritti sull’invio dell’autodichiarazione circa l
 ’aggiornamento professionale 2023-2024 realizzato (in scadenza il 12/202
 5)\;\n 	Pianificazioni festeggiamenti 10 anni associazione (02/2026).\n
LOCATION:http://meet.google.com/hcq-gmae-sev
END:VEVENT
BEGIN:VTIMEZONE
TZID:Europe/Rome
X-LIC-LOCATION:Europe/Rome
BEGIN:DAYLIGHT
DTSTART:20250330T030000
TZOFFSETFROM:+0100
TZOFFSETTO:+0200
TZNAME:CEST
END:DAYLIGHT
END:VTIMEZONE
END:VCALENDARBEGIN:VCALENDAR
VERSION:2.0
PRODID:-//wp-events-plugin.com//7.2.3.1//EN
TZID:Europe/Rome
X-WR-TIMEZONE:Europe/Rome
BEGIN:VEVENT
UID:32@anpia.it
DTSTART;TZID=Europe/Rome:20251007T183000
DTEND;TZID=Europe/Rome:20251007T193000
DTSTAMP:20251006T084835Z
URL:https://anpia.it/eventi/riunione-mensile-consiglio-direttivo-3/
SUMMARY:Riunione mensile - Consiglio direttivo
DESCRIPTION:O.d.G. della riunione:\n\n 	Verbalizzazione decisioni prese dal
  Consiglio direttivo mediante voto online via e-mail\;\n 	Verbalizzazione 
 nuove richieste di associatura pervenute alla Segreteria\, valutate e appr
 ovate mediante voto online via e-mail\;\n 	Aggiornamenti vicepresidente su
  eventi di rappresentanza associativa presenziati nei mesi di settembre (c
 onvegno SIAC\, Metera) e ottobre (convegno SIAA\, Bologna)\;\n 	Individuaz
 ione assicurazione e piano assicurativo da adottare\;\n 	Individuazione co
 rsi/master rispondenti al fabbisogno formativo 2025 rilevato\;\n 	Condivis
 ione associazioni professionali CoLAP da contattare per creazione gruppo d
 i lavoro su azioni di lobby congiunte\;\n 	Definizione tempistiche di cons
 egna delle modifiche alla documentazione (e al sito) richieste dalla verif
 ica effettuata dal MIMIT il 19/09/2025 (PEC)\;\n 	Calendarizzazione eventi
  di supporto agli iscritti sull’invio dell’autodichiarazione circa l
 ’aggiornamento professionale 2023-2024 realizzato (in scadenza il 12/202
 5)\;\n 	Pianificazioni festeggiamenti 10 anni associazione (02/2026).\n
LOCATION:http://meet.google.com/hcq-gmae-sev
END:VEVENT
BEGIN:VTIMEZONE
TZID:Europe/Rome
X-LIC-LOCATION:Europe/Rome
BEGIN:DAYLIGHT
DTSTART:20250330T030000
TZOFFSETFROM:+0100
TZOFFSETTO:+0200
TZNAME:CEST
END:DAYLIGHT
END:VTIMEZONE
END:VCALENDAR