BEGIN:VCALENDAR
VERSION:2.0
PRODID:-//wp-events-plugin.com//7.2.3.1//EN
TZID:Europe/Rome
X-WR-TIMEZONE:Europe/Rome
BEGIN:VEVENT
UID:29@anpia.it
DTSTART;TZID=Europe/Rome:20250902T183000
DTEND;TZID=Europe/Rome:20250902T193000
DTSTAMP:20250901T135945Z
URL:https://anpia.it/eventi/riunione-mensile-consiglio-direttivo-2/
SUMMARY:Riunione mensile - Consiglio direttivo
DESCRIPTION:Ordine del giorno (O.d.G.):\n\n 	Verbalizzazione delle decision
 i prese dal Consiglio direttivo mediante voto online via e-mail\;\n 	Verba
 lizzazione delle nuove richieste di associatura pervenute alla Segreteria\
 , valutate e approvate mediante voto online via e-mail\;\n 	Definizione pr
 oposte da avanzare al CoLAP il 04/09/2025 ore 15.30 come da email inoltrat
 a il 24/07/2025\;\n 	Aggiornamenti Presidente su incontro tenuto con Phron
 esis consulenza filosofica il 01/08/2025\;\n 	Aggiornamento Segretaria su 
 proposta tirocinio da Coordinatrice Commissione tematica welfare\;\n 	Pian
 ificazioni attività associative autunnali e invernali.\n
LOCATION:https://meet.google.com/brd-zcpq-uck
END:VEVENT
BEGIN:VTIMEZONE
TZID:Europe/Rome
X-LIC-LOCATION:Europe/Rome
BEGIN:DAYLIGHT
DTSTART:20250330T030000
TZOFFSETFROM:+0100
TZOFFSETTO:+0200
TZNAME:CEST
END:DAYLIGHT
END:VTIMEZONE
END:VCALENDARBEGIN:VCALENDAR
VERSION:2.0
PRODID:-//wp-events-plugin.com//7.2.3.1//EN
TZID:Europe/Rome
X-WR-TIMEZONE:Europe/Rome
BEGIN:VEVENT
UID:29@anpia.it
DTSTART;TZID=Europe/Rome:20250902T183000
DTEND;TZID=Europe/Rome:20250902T193000
DTSTAMP:20250901T135945Z
URL:https://anpia.it/eventi/riunione-mensile-consiglio-direttivo-2/
SUMMARY:Riunione mensile - Consiglio direttivo
DESCRIPTION:Ordine del giorno (O.d.G.):\n\n 	Verbalizzazione delle decision
 i prese dal Consiglio direttivo mediante voto online via e-mail\;\n 	Verba
 lizzazione delle nuove richieste di associatura pervenute alla Segreteria\
 , valutate e approvate mediante voto online via e-mail\;\n 	Definizione pr
 oposte da avanzare al CoLAP il 04/09/2025 ore 15.30 come da email inoltrat
 a il 24/07/2025\;\n 	Aggiornamenti Presidente su incontro tenuto con Phron
 esis consulenza filosofica il 01/08/2025\;\n 	Aggiornamento Segretaria su 
 proposta tirocinio da Coordinatrice Commissione tematica welfare\;\n 	Pian
 ificazioni attività associative autunnali e invernali.\n
LOCATION:https://meet.google.com/brd-zcpq-uck
END:VEVENT
BEGIN:VTIMEZONE
TZID:Europe/Rome
X-LIC-LOCATION:Europe/Rome
BEGIN:DAYLIGHT
DTSTART:20250330T030000
TZOFFSETFROM:+0100
TZOFFSETTO:+0200
TZNAME:CEST
END:DAYLIGHT
END:VTIMEZONE
END:VCALENDAR