BEGIN:VCALENDAR
VERSION:2.0
PRODID:-//wp-events-plugin.com//7.2.3.1//EN
TZID:Europe/Rome
X-WR-TIMEZONE:Europe/Rome
BEGIN:VEVENT
UID:69@anpia.it
DTSTART;TZID=Europe/Rome:20260519T183000
DTEND;TZID=Europe/Rome:20260519T193000
DTSTAMP:20260424T124759Z
URL:https://anpia.it/eventi/riunione-mensile-consiglio-direttivo-10/
SUMMARY:Riunione mensile - Consiglio direttivo
DESCRIPTION:Riunione mensile del Consiglio direttivo dell'Associazione. Ins
 ediamento del nuovo Consiglio eletto all'unanimità il 18/04/2026. Ordine 
 del giorno disponibile a breve.
LOCATION:http://meet.google.com/zwe-xpwq-sns
END:VEVENT
BEGIN:VTIMEZONE
TZID:Europe/Rome
X-LIC-LOCATION:Europe/Rome
BEGIN:DAYLIGHT
DTSTART:20260329T030000
TZOFFSETFROM:+0100
TZOFFSETTO:+0200
TZNAME:CEST
END:DAYLIGHT
END:VTIMEZONE
END:VCALENDARBEGIN:VCALENDAR
VERSION:2.0
PRODID:-//wp-events-plugin.com//7.2.3.1//EN
TZID:Europe/Rome
X-WR-TIMEZONE:Europe/Rome
BEGIN:VEVENT
UID:69@anpia.it
DTSTART;TZID=Europe/Rome:20260519T183000
DTEND;TZID=Europe/Rome:20260519T193000
DTSTAMP:20260424T124759Z
URL:https://anpia.it/eventi/riunione-mensile-consiglio-direttivo-10/
SUMMARY:Riunione mensile - Consiglio direttivo
DESCRIPTION:Riunione mensile del Consiglio direttivo dell'Associazione. Ins
 ediamento del nuovo Consiglio eletto all'unanimità il 18/04/2026. Ordine 
 del giorno disponibile a breve.
LOCATION:http://meet.google.com/zwe-xpwq-sns
END:VEVENT
BEGIN:VTIMEZONE
TZID:Europe/Rome
X-LIC-LOCATION:Europe/Rome
BEGIN:DAYLIGHT
DTSTART:20260329T030000
TZOFFSETFROM:+0100
TZOFFSETTO:+0200
TZNAME:CEST
END:DAYLIGHT
END:VTIMEZONE
END:VCALENDAR