BEGIN:VCALENDAR
VERSION:2.0
PRODID:-//wp-events-plugin.com//7.2.3.1//EN
TZID:Europe/Rome
X-WR-TIMEZONE:Europe/Rome
BEGIN:VEVENT
UID:33@anpia.it
DTSTART;TZID=Europe/Rome:20250904T153000
DTEND;TZID=Europe/Rome:20250904T163000
DTSTAMP:20250902T174037Z
URL:https://anpia.it/eventi/riunione-di-aggiornamento-colap-presidente-anp
 ia/
SUMMARY:Riunione di aggiornamento CoLAP - Presidente ANPIA
DESCRIPTION:Il presidente CoLAP incontra la presidente dell'Associazione pe
 r aggiornarla sugli sviluppi delle attività portate avanti e per raccogli
 ere osservazioni e criticità provenienti dal settore professionale rappre
 sentato da ANPIA.\nIn merito agli aggiornamenti\, si tratta dei seguenti t
 emi:\n\n 	Equo compenso: siamo ormai in dirittura d’arrivo e con una nov
 ità importante\, ovvero l’equiparazione dell’Attestazione alla Certif
 icazione per ottenere un supplemento di parcella. Una conquista che raff
 orza la tua professione e l’autorevolezza dell’associazione che inizia
  a poter rispondere alla domanda: cosa serve essere associati\,\n 	Rapport
 i con la PA: stato di avanzamento delle interlocuzioni in corso con Consip
 \, per contrastare le discriminazioni verso chi lavora con la pubblica amm
 inistrazione e inserire anche la tua professione\, oltre al credito in ter
 mini di punteggio\, anche qui chiederemo di avvalorare l’attestazione\,\
 n 	CTU: a settembre si apre la seconda finestra annuale\, può utile rifle
 ttere insieme su come cogliere questa opportunità\,\n 	Iniziative istituz
 ionali: stato dell'arte delle azioni intraprese da ANPIA sul territorio e 
 valutazione di un supporto concreto\, parte integrante della strategia naz
 ionale CoLAP\,\n 	Ministero del Lavoro e MIUR: stato di avanzamento delle 
 istanze portate avanti per contrastare bandi discriminatori e per accredit
 are una formazione sempre più qualificata\,\n 	Registro professionale cam
 erale\, rafforzamento dell’Attestazione e la sua maggiore riconoscibi
 lità sul mercato\,\n 	Proposta sullo 0\,30% INPS: richiesta che venga des
 tinato alla formazione finanziata\, stralciandolo dai contributi previdenz
 iali\,\n 	Welfare e previdenza: proposte in atto\, come il principio secon
 do cui 100 euro versati all’INPS debbano valere 100 euro per tutti\, sup
 erando le disparità attuali.\n\n&nbsp\;
LOCATION:https://us02web.zoom.us/j/86256444527?pwd=OX6jfyAHfsMqlDtzxIbkWAde
 FUSUiT.1
END:VEVENT
BEGIN:VTIMEZONE
TZID:Europe/Rome
X-LIC-LOCATION:Europe/Rome
BEGIN:DAYLIGHT
DTSTART:20250330T030000
TZOFFSETFROM:+0100
TZOFFSETTO:+0200
TZNAME:CEST
END:DAYLIGHT
END:VTIMEZONE
END:VCALENDARBEGIN:VCALENDAR
VERSION:2.0
PRODID:-//wp-events-plugin.com//7.2.3.1//EN
TZID:Europe/Rome
X-WR-TIMEZONE:Europe/Rome
BEGIN:VEVENT
UID:33@anpia.it
DTSTART;TZID=Europe/Rome:20250904T153000
DTEND;TZID=Europe/Rome:20250904T163000
DTSTAMP:20250902T174037Z
URL:https://anpia.it/eventi/riunione-di-aggiornamento-colap-presidente-anp
 ia/
SUMMARY:Riunione di aggiornamento CoLAP - Presidente ANPIA
DESCRIPTION:Il presidente CoLAP incontra la presidente dell'Associazione pe
 r aggiornarla sugli sviluppi delle attività portate avanti e per raccogli
 ere osservazioni e criticità provenienti dal settore professionale rappre
 sentato da ANPIA.\nIn merito agli aggiornamenti\, si tratta dei seguenti t
 emi:\n\n 	Equo compenso: siamo ormai in dirittura d’arrivo e con una nov
 ità importante\, ovvero l’equiparazione dell’Attestazione alla Certif
 icazione per ottenere un supplemento di parcella. Una conquista che raff
 orza la tua professione e l’autorevolezza dell’associazione che inizia
  a poter rispondere alla domanda: cosa serve essere associati\,\n 	Rapport
 i con la PA: stato di avanzamento delle interlocuzioni in corso con Consip
 \, per contrastare le discriminazioni verso chi lavora con la pubblica amm
 inistrazione e inserire anche la tua professione\, oltre al credito in ter
 mini di punteggio\, anche qui chiederemo di avvalorare l’attestazione\,\
 n 	CTU: a settembre si apre la seconda finestra annuale\, può utile rifle
 ttere insieme su come cogliere questa opportunità\,\n 	Iniziative istituz
 ionali: stato dell'arte delle azioni intraprese da ANPIA sul territorio e 
 valutazione di un supporto concreto\, parte integrante della strategia naz
 ionale CoLAP\,\n 	Ministero del Lavoro e MIUR: stato di avanzamento delle 
 istanze portate avanti per contrastare bandi discriminatori e per accredit
 are una formazione sempre più qualificata\,\n 	Registro professionale cam
 erale\, rafforzamento dell’Attestazione e la sua maggiore riconoscibi
 lità sul mercato\,\n 	Proposta sullo 0\,30% INPS: richiesta che venga des
 tinato alla formazione finanziata\, stralciandolo dai contributi previdenz
 iali\,\n 	Welfare e previdenza: proposte in atto\, come il principio secon
 do cui 100 euro versati all’INPS debbano valere 100 euro per tutti\, sup
 erando le disparità attuali.\n\n&nbsp\;
LOCATION:https://us02web.zoom.us/j/86256444527?pwd=OX6jfyAHfsMqlDtzxIbkWAde
 FUSUiT.1
END:VEVENT
BEGIN:VTIMEZONE
TZID:Europe/Rome
X-LIC-LOCATION:Europe/Rome
BEGIN:DAYLIGHT
DTSTART:20250330T030000
TZOFFSETFROM:+0100
TZOFFSETTO:+0200
TZNAME:CEST
END:DAYLIGHT
END:VTIMEZONE
END:VCALENDAR