BEGIN:VCALENDAR
VERSION:2.0
PRODID:-//wp-events-plugin.com//7.2.3.1//EN
TZID:Europe/Rome
X-WR-TIMEZONE:Europe/Rome
BEGIN:VEVENT
UID:65@anpia.it
DTSTART;TZID=Europe/Rome:20260327T140000
DTEND;TZID=Europe/Rome:20260327T153000
DTSTAMP:20260327T142506Z
URL:https://anpia.it/eventi/riunione-comitato-di-indirizzo-unimore-preside
 nte/
SUMMARY:Riunione Comitato di indirizzo UniMORE - Presidente
DESCRIPTION:L'Associazione\, per mezzo della presidente\, Maria Concetta Se
 gneri\, prenderà parte\, in qualità di membro componente del Comitato d
 ’indirizzo dei Corsi di studio in Storia e Culture Contemporanee (Presid
 ente Prof.ssa Deborah Paci) e Antropologia e Storia del Mondo Contemporane
 o (Presidente prof.ssa Alessandra Gribaldo)\, all'incontro annuale che si 
 terrà online il 27/03/2026\, alle ore 14.00\, e finalizzato al  confront
 o con le Parti sociali sui profili culturali in uscita dai due corsi di la
 urea e sulle effettive potenzialità occupazionali dei laureati e delle la
 ureate\, in connessione all'offerta formativa proposta.\nAlla riunione sar
 anno invitati anche tutti i docenti dei Consigli di SCC e di ASMC e la rap
 presentanza studentesca.\nDi seguito\, sono riportati i riferimenti ai sin
 goli corsi interessati:\n\n 	Laurea Triennale in Storia e Culture Contempo
 ranee\n 	Laurea Magistrale in Antropologia e Storia del Mondo Contemporane
 o\n
LOCATION:https://meet.google.com/vgc-bbcb-mcq
END:VEVENT
BEGIN:VTIMEZONE
TZID:Europe/Rome
X-LIC-LOCATION:Europe/Rome
BEGIN:STANDARD
DTSTART:20251026T020000
TZOFFSETFROM:+0200
TZOFFSETTO:+0100
TZNAME:CET
END:STANDARD
END:VTIMEZONE
END:VCALENDARBEGIN:VCALENDAR
VERSION:2.0
PRODID:-//wp-events-plugin.com//7.2.3.1//EN
TZID:Europe/Rome
X-WR-TIMEZONE:Europe/Rome
BEGIN:VEVENT
UID:65@anpia.it
DTSTART;TZID=Europe/Rome:20260327T140000
DTEND;TZID=Europe/Rome:20260327T153000
DTSTAMP:20260327T142506Z
URL:https://anpia.it/eventi/riunione-comitato-di-indirizzo-unimore-preside
 nte/
SUMMARY:Riunione Comitato di indirizzo UniMORE - Presidente
DESCRIPTION:L'Associazione\, per mezzo della presidente\, Maria Concetta Se
 gneri\, prenderà parte\, in qualità di membro componente del Comitato d
 ’indirizzo dei Corsi di studio in Storia e Culture Contemporanee (Presid
 ente Prof.ssa Deborah Paci) e Antropologia e Storia del Mondo Contemporane
 o (Presidente prof.ssa Alessandra Gribaldo)\, all'incontro annuale che si 
 terrà online il 27/03/2026\, alle ore 14.00\, e finalizzato al  confront
 o con le Parti sociali sui profili culturali in uscita dai due corsi di la
 urea e sulle effettive potenzialità occupazionali dei laureati e delle la
 ureate\, in connessione all'offerta formativa proposta.\nAlla riunione sar
 anno invitati anche tutti i docenti dei Consigli di SCC e di ASMC e la rap
 presentanza studentesca.\nDi seguito\, sono riportati i riferimenti ai sin
 goli corsi interessati:\n\n 	Laurea Triennale in Storia e Culture Contempo
 ranee\n 	Laurea Magistrale in Antropologia e Storia del Mondo Contemporane
 o\n
LOCATION:https://meet.google.com/vgc-bbcb-mcq
END:VEVENT
BEGIN:VTIMEZONE
TZID:Europe/Rome
X-LIC-LOCATION:Europe/Rome
BEGIN:STANDARD
DTSTART:20251026T020000
TZOFFSETFROM:+0200
TZOFFSETTO:+0100
TZNAME:CET
END:STANDARD
END:VTIMEZONE
END:VCALENDAR