BEGIN:VCALENDAR
VERSION:2.0
PRODID:-//wp-events-plugin.com//7.2.3.1//EN
TZID:Europe/Rome
X-WR-TIMEZONE:Europe/Rome
BEGIN:VEVENT
UID:47@anpia.it
DTSTART;TZID=Europe/Rome:20251124T153000
DTEND;TZID=Europe/Rome:20251124T163000
DTSTAMP:20251124T133238Z
URL:https://anpia.it/eventi/riunione-comitato-di-indirizzo-corso-di-laurea
 -antropologia-culturale-ed-etnologia-unibo-presidente/
SUMMARY:Riunione Comitato di indirizzo corso di laurea Antropologia Cultura
 le ed Etnologia UNIBo - Presidente
DESCRIPTION:L'Associazione\, in qualità di membro del Consiglio di indiriz
 zo del Corso di Laurea Magistrale in Antropologia Culturale ed Etnologia\,
  Dipartimento Storia Culture Civiltà\, Alma Mater Studiorum-Università d
 i Bologna\, partecipa alla riunione indetta dal prof. I. Quaranta per rice
 vere aggiornamenti e fornire suggerimenti.
LOCATION:http://373%20416%20740%20415%2096
END:VEVENT
BEGIN:VTIMEZONE
TZID:Europe/Rome
X-LIC-LOCATION:Europe/Rome
BEGIN:STANDARD
DTSTART:20251026T020000
TZOFFSETFROM:+0200
TZOFFSETTO:+0100
TZNAME:CET
END:STANDARD
END:VTIMEZONE
END:VCALENDARBEGIN:VCALENDAR
VERSION:2.0
PRODID:-//wp-events-plugin.com//7.2.3.1//EN
TZID:Europe/Rome
X-WR-TIMEZONE:Europe/Rome
BEGIN:VEVENT
UID:47@anpia.it
DTSTART;TZID=Europe/Rome:20251124T153000
DTEND;TZID=Europe/Rome:20251124T163000
DTSTAMP:20251124T133238Z
URL:https://anpia.it/eventi/riunione-comitato-di-indirizzo-corso-di-laurea
 -antropologia-culturale-ed-etnologia-unibo-presidente/
SUMMARY:Riunione Comitato di indirizzo corso di laurea Antropologia Cultura
 le ed Etnologia UNIBo - Presidente
DESCRIPTION:L'Associazione\, in qualità di membro del Consiglio di indiriz
 zo del Corso di Laurea Magistrale in Antropologia Culturale ed Etnologia\,
  Dipartimento Storia Culture Civiltà\, Alma Mater Studiorum-Università d
 i Bologna\, partecipa alla riunione indetta dal prof. I. Quaranta per rice
 vere aggiornamenti e fornire suggerimenti.
LOCATION:http://373%20416%20740%20415%2096
END:VEVENT
BEGIN:VTIMEZONE
TZID:Europe/Rome
X-LIC-LOCATION:Europe/Rome
BEGIN:STANDARD
DTSTART:20251026T020000
TZOFFSETFROM:+0200
TZOFFSETTO:+0100
TZNAME:CET
END:STANDARD
END:VTIMEZONE
END:VCALENDAR