BEGIN:VCALENDAR
VERSION:2.0
PRODID:-//wp-events-plugin.com//7.2.3.1//EN
TZID:Europe/Rome
X-WR-TIMEZONE:Europe/Rome
BEGIN:VEVENT
UID:53@anpia.it
DTSTART;TZID=Europe/Rome:20260131T173000
DTEND;TZID=Europe/Rome:20260131T183000
DTSTAMP:20260120T210221Z
URL:https://anpia.it/eventi/presentazione-pubblicazione-cisav-apsanpia/
SUMMARY:Tutti i paesi sono mondo - Dibattito F.Della Costa\, CISAV-APS e AN
 PIA
DESCRIPTION:Evento promosso dal Centro Indipendente Studi Alta Valle del Vo
 lturno (CISAV-APS)\, ANPIA e Comune di Cerro a Volturno (IS) dal titolo "T
 utti i paesi sono mondo"\, ospiterà la presentazione del libro "Paesismo"
  di F. Della Costa\, che sarà discusso insieme a M. Di Sandro (CISAV-APS)
 \, M. Benciolini (coordinatrice Commissione tematica Ambiente di ANPIA) e 
 F. Lorenzoni (vicepresidente ANPIA).\nSi svolgerà il 31/01 alle ore 17.30
  presso la Sala Consiliare messa a disposizione dal Comune di Colli a Volt
 urno.\nLa locandina dell'evento[wpdm_package id=8298 template="link-templa
 te-default-wdc.php"]
LOCATION:Sala Consiliare\, Colli a Volturno\, Isernia\, 
X-APPLE-STRUCTURED-LOCATION;VALUE=URI;X-ADDRESS=Colli a Volturno\, Isernia\
 , ;X-APPLE-RADIUS=100;X-TITLE=Sala Consiliare:geo:0,0
END:VEVENT
BEGIN:VTIMEZONE
TZID:Europe/Rome
X-LIC-LOCATION:Europe/Rome
BEGIN:STANDARD
DTSTART:20251026T020000
TZOFFSETFROM:+0200
TZOFFSETTO:+0100
TZNAME:CET
END:STANDARD
END:VTIMEZONE
END:VCALENDARBEGIN:VCALENDAR
VERSION:2.0
PRODID:-//wp-events-plugin.com//7.2.3.1//EN
TZID:Europe/Rome
X-WR-TIMEZONE:Europe/Rome
BEGIN:VEVENT
UID:53@anpia.it
DTSTART;TZID=Europe/Rome:20260131T173000
DTEND;TZID=Europe/Rome:20260131T183000
DTSTAMP:20260120T210221Z
URL:https://anpia.it/eventi/presentazione-pubblicazione-cisav-apsanpia/
SUMMARY:Tutti i paesi sono mondo - Dibattito F.Della Costa\, CISAV-APS e AN
 PIA
DESCRIPTION:Evento promosso dal Centro Indipendente Studi Alta Valle del Vo
 lturno (CISAV-APS)\, ANPIA e Comune di Cerro a Volturno (IS) dal titolo "T
 utti i paesi sono mondo"\, ospiterà la presentazione del libro "Paesismo"
  di F. Della Costa\, che sarà discusso insieme a M. Di Sandro (CISAV-APS)
 \, M. Benciolini (coordinatrice Commissione tematica Ambiente di ANPIA) e 
 F. Lorenzoni (vicepresidente ANPIA).\nSi svolgerà il 31/01 alle ore 17.30
  presso la Sala Consiliare messa a disposizione dal Comune di Colli a Volt
 urno.\nLa locandina dell'evento[wpdm_package id=8298 template="link-templa
 te-default-wdc.php"]
LOCATION:Sala Consiliare\, Colli a Volturno\, Isernia\, 
X-APPLE-STRUCTURED-LOCATION;VALUE=URI;X-ADDRESS=Colli a Volturno\, Isernia\
 , ;X-APPLE-RADIUS=100;X-TITLE=Sala Consiliare:geo:0,0
END:VEVENT
BEGIN:VTIMEZONE
TZID:Europe/Rome
X-LIC-LOCATION:Europe/Rome
BEGIN:STANDARD
DTSTART:20251026T020000
TZOFFSETFROM:+0200
TZOFFSETTO:+0100
TZNAME:CET
END:STANDARD
END:VTIMEZONE
END:VCALENDAR