BEGIN:VCALENDAR
VERSION:2.0
PRODID:-//wp-events-plugin.com//7.2.3.1//EN
TZID:Europe/Rome
X-WR-TIMEZONE:Europe/Rome
BEGIN:VEVENT
UID:5@anpia.it
DTSTART;TZID=Europe/Rome:20250317T180000
DTEND;TZID=Europe/Rome:20250317T200000
DTSTAMP:20250315T100334Z
URL:https://anpia.it/eventi/presentazione-della-survey-promossa-da-anpia-w
 ebinar-aperto-a-iscritti-e-non/
SUMMARY:Presentazione della survey promossa da ANPIA - Webinar aperto a isc
 ritti e non
DESCRIPTION:https://anpia.it/primo-report-sullantropologia-professionale-in
 -italia-pubblicazioni-anpia/\n\n&nbsp\;
LOCATION:https://zoom.us/j/98038651543?pwd=Ex5NwkJNV0u3EN3eFop4a5U7xj3B1w.1
END:VEVENT
BEGIN:VTIMEZONE
TZID:Europe/Rome
X-LIC-LOCATION:Europe/Rome
BEGIN:STANDARD
DTSTART:20241027T020000
TZOFFSETFROM:+0200
TZOFFSETTO:+0100
TZNAME:CET
END:STANDARD
END:VTIMEZONE
END:VCALENDARBEGIN:VCALENDAR
VERSION:2.0
PRODID:-//wp-events-plugin.com//7.2.3.1//EN
TZID:Europe/Rome
X-WR-TIMEZONE:Europe/Rome
BEGIN:VEVENT
UID:5@anpia.it
DTSTART;TZID=Europe/Rome:20250317T180000
DTEND;TZID=Europe/Rome:20250317T200000
DTSTAMP:20250315T100334Z
URL:https://anpia.it/eventi/presentazione-della-survey-promossa-da-anpia-w
 ebinar-aperto-a-iscritti-e-non/
SUMMARY:Presentazione della survey promossa da ANPIA - Webinar aperto a isc
 ritti e non
DESCRIPTION:https://anpia.it/primo-report-sullantropologia-professionale-in
 -italia-pubblicazioni-anpia/\n\n&nbsp\;
LOCATION:https://zoom.us/j/98038651543?pwd=Ex5NwkJNV0u3EN3eFop4a5U7xj3B1w.1
END:VEVENT
BEGIN:VTIMEZONE
TZID:Europe/Rome
X-LIC-LOCATION:Europe/Rome
BEGIN:STANDARD
DTSTART:20241027T020000
TZOFFSETFROM:+0200
TZOFFSETTO:+0100
TZNAME:CET
END:STANDARD
END:VTIMEZONE
END:VCALENDAR