BEGIN:VCALENDAR
VERSION:2.0
PRODID:-//wp-events-plugin.com//7.2.3.1//EN
TZID:Europe/Rome
X-WR-TIMEZONE:Europe/Rome
BEGIN:VEVENT
UID:31@anpia.it
DTSTART;TZID=Europe/Rome:20251014T180000
DTEND;TZID=Europe/Rome:20251014T190000
DTSTAMP:20251006T130452Z
URL:https://anpia.it/eventi/prepararsi-ai-concorsi-pubblici-formazione-ori
 zzontale-tra-soc3/
SUMMARY:Prepararsi ai concorsi pubblici - Formazione orizzontale tra soc3
DESCRIPTION:Nel calendario autunnale è già programmato il primo incontro 
 del ciclo di formazione orizzontale tra soc3 che l'Associazione inaugura q
 uest'anno\, dopo aver raccolto a maggio importanti spunti negli incontri t
 enuti con i soc3.\nTitolo dell'incontro: Prepararsi ai concorsi pubblici: 
 orientarsi tra bandi\, requisiti e documentazione utile.\nRelatore: Damian
 o Gallinaro.\nLink Zoom: https://zoom.us/j/96427348537?pwd=zhwTtAdP6jPg7am
 gLnKRK0ylKETe2H.1
LOCATION:https://zoom.us/j/96427348537?pwd=zhwTtAdP6jPg7amgLnKRK0ylKETe2H.1
END:VEVENT
BEGIN:VTIMEZONE
TZID:Europe/Rome
X-LIC-LOCATION:Europe/Rome
BEGIN:DAYLIGHT
DTSTART:20250330T030000
TZOFFSETFROM:+0100
TZOFFSETTO:+0200
TZNAME:CEST
END:DAYLIGHT
END:VTIMEZONE
END:VCALENDARBEGIN:VCALENDAR
VERSION:2.0
PRODID:-//wp-events-plugin.com//7.2.3.1//EN
TZID:Europe/Rome
X-WR-TIMEZONE:Europe/Rome
BEGIN:VEVENT
UID:31@anpia.it
DTSTART;TZID=Europe/Rome:20251014T180000
DTEND;TZID=Europe/Rome:20251014T190000
DTSTAMP:20251006T130452Z
URL:https://anpia.it/eventi/prepararsi-ai-concorsi-pubblici-formazione-ori
 zzontale-tra-soc3/
SUMMARY:Prepararsi ai concorsi pubblici - Formazione orizzontale tra soc3
DESCRIPTION:Nel calendario autunnale è già programmato il primo incontro 
 del ciclo di formazione orizzontale tra soc3 che l'Associazione inaugura q
 uest'anno\, dopo aver raccolto a maggio importanti spunti negli incontri t
 enuti con i soc3.\nTitolo dell'incontro: Prepararsi ai concorsi pubblici: 
 orientarsi tra bandi\, requisiti e documentazione utile.\nRelatore: Damian
 o Gallinaro.\nLink Zoom: https://zoom.us/j/96427348537?pwd=zhwTtAdP6jPg7am
 gLnKRK0ylKETe2H.1
LOCATION:https://zoom.us/j/96427348537?pwd=zhwTtAdP6jPg7amgLnKRK0ylKETe2H.1
END:VEVENT
BEGIN:VTIMEZONE
TZID:Europe/Rome
X-LIC-LOCATION:Europe/Rome
BEGIN:DAYLIGHT
DTSTART:20250330T030000
TZOFFSETFROM:+0100
TZOFFSETTO:+0200
TZNAME:CEST
END:DAYLIGHT
END:VTIMEZONE
END:VCALENDAR