BEGIN:VCALENDAR
VERSION:2.0
PRODID:-//wp-events-plugin.com//7.2.3.1//EN
TZID:Europe/Rome
X-WR-TIMEZONE:Europe/Rome
BEGIN:VEVENT
UID:49@anpia.it
DTSTART;TZID=Europe/Rome:20251210T183000
DTEND;TZID=Europe/Rome:20251210T193000
DTSTAMP:20251228T065929Z
URL:https://anpia.it/eventi/orientamento-compilazione-modulo-aggiornamento
 -professionale-consiglio-dei-saggi/
SUMMARY:Orientamento compilazione modulo aggiornamento professionale  - Con
 siglio dei saggi
DESCRIPTION:Evento destinato ai soci e alle socie ANPIA per supportarli nel
 la presentazione della modulistica volta alla verifica dell'aggiornamento 
 professionale continuo per il biennio 2023-2024.\nIl link Zoom per la part
 ecipazione all'incontro sarà il seguente: https://zoom.us/j/98063146166?p
 wd=ei4WhhXJGYNfR9aL876Q83eiqwUYVc.1
LOCATION:https://zoom.us/j/98063146166?pwd=ei4WhhXJGYNfR9aL876Q83eiqwUYVc.1
END:VEVENT
BEGIN:VTIMEZONE
TZID:Europe/Rome
X-LIC-LOCATION:Europe/Rome
BEGIN:STANDARD
DTSTART:20251026T020000
TZOFFSETFROM:+0200
TZOFFSETTO:+0100
TZNAME:CET
END:STANDARD
END:VTIMEZONE
END:VCALENDARBEGIN:VCALENDAR
VERSION:2.0
PRODID:-//wp-events-plugin.com//7.2.3.1//EN
TZID:Europe/Rome
X-WR-TIMEZONE:Europe/Rome
BEGIN:VEVENT
UID:49@anpia.it
DTSTART;TZID=Europe/Rome:20251210T183000
DTEND;TZID=Europe/Rome:20251210T193000
DTSTAMP:20251228T065929Z
URL:https://anpia.it/eventi/orientamento-compilazione-modulo-aggiornamento
 -professionale-consiglio-dei-saggi/
SUMMARY:Orientamento compilazione modulo aggiornamento professionale  - Con
 siglio dei saggi
DESCRIPTION:Evento destinato ai soci e alle socie ANPIA per supportarli nel
 la presentazione della modulistica volta alla verifica dell'aggiornamento 
 professionale continuo per il biennio 2023-2024.\nIl link Zoom per la part
 ecipazione all'incontro sarà il seguente: https://zoom.us/j/98063146166?p
 wd=ei4WhhXJGYNfR9aL876Q83eiqwUYVc.1
LOCATION:https://zoom.us/j/98063146166?pwd=ei4WhhXJGYNfR9aL876Q83eiqwUYVc.1
END:VEVENT
BEGIN:VTIMEZONE
TZID:Europe/Rome
X-LIC-LOCATION:Europe/Rome
BEGIN:STANDARD
DTSTART:20251026T020000
TZOFFSETFROM:+0200
TZOFFSETTO:+0100
TZNAME:CET
END:STANDARD
END:VTIMEZONE
END:VCALENDAR