BEGIN:VCALENDAR
VERSION:2.0
PRODID:-//wp-events-plugin.com//7.2.3.1//EN
TZID:Europe/Rome
X-WR-TIMEZONE:Europe/Rome
BEGIN:VEVENT
UID:34@anpia.it
DTSTART;TZID=Europe/Rome:20250918T173000
DTEND;TZID=Europe/Rome:20250918T210000
DTSTAMP:20250917T201314Z
URL:https://anpia.it/eventi/mostra-fotografica-legami-intangibili-ventotto
 -paesaggi-festivi-presidente-anpia/
SUMMARY:Mostra fotografica "Legami intangibili. Ventotto paesaggi festivi" 
 - Presidente ANPIA
DESCRIPTION:ANPIA mediante la Presidente parteciperà all'inaugurazione del
 la mostra fotografica collettiva Legami intangibili. Ventotto paesaggi fes
 tivi in mostra\, curata da Fabio Fichera e Cinzia Marchesini dell'Istituto
  Centrale per il Patrimonio Immateriale\, Ministero della Cultura\, e ospi
 tata dal Museo di Roma in Trastevere a partire dal 18 settembre 2025.\nL'i
 naugurazione si terrà dalle 17.30 alle 21.00.\nLa mostra propone una lett
 ura contemporanea e autoriale delle feste\, esplorandone il ruolo nella co
 struzione dei paesaggi festivi.\nLe opere esposte esplorano la festa come 
 un luogo di scambio e di interrelazione tra esseri umani e ambienti natura
 li\, tra persone e simboli\, trasformando i luoghi in spazi di vita e di c
 ura del territorio.\nVentotto paesaggi festivi che raccontano il legame fr
 a i luoghi e le persone in mostra nelle fotografie di Marina Berardi\, Bar
 bara Di Maio\, Francesco Faraci\, Francesco Francaviglia\, Fausto Podavini
 .\nL'iniziativa è promossa da Roma Capitale\, Assessorato alla Cultura\, 
 Sovrintendenza Capitolina ai Beni Culturali\, ed è organizzata dall'Istit
 uto Centrale per il Patrimonio Immateriale del Ministero della Cultura.\nI
 nformazioni di dettaglio: https://icpi.cultura.gov.it/\, https://www.muse
 odiromaintrastevere.it/it/mostra-evento/legami-intangibili-ventotto-paesag
 gi-festivi-mostra\n&nbsp\;
LOCATION:Museo di Roma in Trastevere\, Piazza S. Egidio\, 1/b\, Roma\, Roma
 \, 00153\, Lazio\, Italia
X-APPLE-STRUCTURED-LOCATION;VALUE=URI;X-ADDRESS=Piazza S. Egidio\, 1/b\, Ro
 ma\, Roma\, 00153\, Lazio\, Italia;X-APPLE-RADIUS=100;X-TITLE=Museo di Rom
 a in Trastevere:geo:0,0
END:VEVENT
BEGIN:VTIMEZONE
TZID:Europe/Rome
X-LIC-LOCATION:Europe/Rome
BEGIN:DAYLIGHT
DTSTART:20250330T030000
TZOFFSETFROM:+0100
TZOFFSETTO:+0200
TZNAME:CEST
END:DAYLIGHT
END:VTIMEZONE
END:VCALENDARBEGIN:VCALENDAR
VERSION:2.0
PRODID:-//wp-events-plugin.com//7.2.3.1//EN
TZID:Europe/Rome
X-WR-TIMEZONE:Europe/Rome
BEGIN:VEVENT
UID:34@anpia.it
DTSTART;TZID=Europe/Rome:20250918T173000
DTEND;TZID=Europe/Rome:20250918T210000
DTSTAMP:20250917T201314Z
URL:https://anpia.it/eventi/mostra-fotografica-legami-intangibili-ventotto
 -paesaggi-festivi-presidente-anpia/
SUMMARY:Mostra fotografica "Legami intangibili. Ventotto paesaggi festivi" 
 - Presidente ANPIA
DESCRIPTION:ANPIA mediante la Presidente parteciperà all'inaugurazione del
 la mostra fotografica collettiva Legami intangibili. Ventotto paesaggi fes
 tivi in mostra\, curata da Fabio Fichera e Cinzia Marchesini dell'Istituto
  Centrale per il Patrimonio Immateriale\, Ministero della Cultura\, e ospi
 tata dal Museo di Roma in Trastevere a partire dal 18 settembre 2025.\nL'i
 naugurazione si terrà dalle 17.30 alle 21.00.\nLa mostra propone una lett
 ura contemporanea e autoriale delle feste\, esplorandone il ruolo nella co
 struzione dei paesaggi festivi.\nLe opere esposte esplorano la festa come 
 un luogo di scambio e di interrelazione tra esseri umani e ambienti natura
 li\, tra persone e simboli\, trasformando i luoghi in spazi di vita e di c
 ura del territorio.\nVentotto paesaggi festivi che raccontano il legame fr
 a i luoghi e le persone in mostra nelle fotografie di Marina Berardi\, Bar
 bara Di Maio\, Francesco Faraci\, Francesco Francaviglia\, Fausto Podavini
 .\nL'iniziativa è promossa da Roma Capitale\, Assessorato alla Cultura\, 
 Sovrintendenza Capitolina ai Beni Culturali\, ed è organizzata dall'Istit
 uto Centrale per il Patrimonio Immateriale del Ministero della Cultura.\nI
 nformazioni di dettaglio: https://icpi.cultura.gov.it/\, https://www.muse
 odiromaintrastevere.it/it/mostra-evento/legami-intangibili-ventotto-paesag
 gi-festivi-mostra\n&nbsp\;
LOCATION:Museo di Roma in Trastevere\, Piazza S. Egidio\, 1/b\, Roma\, Roma
 \, 00153\, Lazio\, Italia
X-APPLE-STRUCTURED-LOCATION;VALUE=URI;X-ADDRESS=Piazza S. Egidio\, 1/b\, Ro
 ma\, Roma\, 00153\, Lazio\, Italia;X-APPLE-RADIUS=100;X-TITLE=Museo di Rom
 a in Trastevere:geo:0,0
END:VEVENT
BEGIN:VTIMEZONE
TZID:Europe/Rome
X-LIC-LOCATION:Europe/Rome
BEGIN:DAYLIGHT
DTSTART:20250330T030000
TZOFFSETFROM:+0100
TZOFFSETTO:+0200
TZNAME:CEST
END:DAYLIGHT
END:VTIMEZONE
END:VCALENDAR