BEGIN:VCALENDAR
VERSION:2.0
PRODID:-//wp-events-plugin.com//7.2.3.1//EN
TZID:Europe/Rome
X-WR-TIMEZONE:Europe/Rome
BEGIN:VEVENT
UID:43@anpia.it
DTSTART;TZID=Europe/Rome:20251115T090000
DTEND;TZID=Europe/Rome:20251115T170000
DTSTAMP:20251117T200626Z
URL:https://anpia.it/eventi/masterclass-europrogettazione-ideaeuropa-presi
 dente-e-tamerici/
SUMMARY:Masterclass europrogettazione - IdeaEuropa - Presidente e Tamerici
DESCRIPTION:L'Associazione\, mediante la Presidente\, insieme a un membro d
 i Tamerici S.r.l. - partner ANPIA dal 2025 - partecipa alla masterclass su
 ll'europrogettazione tenuta da IdeaEuropa\, ente romano molto accreditato 
 nel campo della progettazione europea.\nL'obiettivo è triplice:\n\n 	Cono
 scere nel dettaglio l'offerta formativa dell'ente\;\n 	Raccogliere suggeri
 menti sullo scouting di bandi di finanziamento\;\n 	Identificare possibili
  collaborazioni.\n
LOCATION:Etoilè 23\, Piazza Tarquinia 5\, Roma\, 00183\, Lazio\, Italia
X-APPLE-STRUCTURED-LOCATION;VALUE=URI;X-ADDRESS=Piazza Tarquinia 5\, Roma\,
  00183\, Lazio\, Italia;X-APPLE-RADIUS=100;X-TITLE=Etoilè 23:geo:0,0
END:VEVENT
BEGIN:VTIMEZONE
TZID:Europe/Rome
X-LIC-LOCATION:Europe/Rome
BEGIN:STANDARD
DTSTART:20251026T020000
TZOFFSETFROM:+0200
TZOFFSETTO:+0100
TZNAME:CET
END:STANDARD
END:VTIMEZONE
END:VCALENDARBEGIN:VCALENDAR
VERSION:2.0
PRODID:-//wp-events-plugin.com//7.2.3.1//EN
TZID:Europe/Rome
X-WR-TIMEZONE:Europe/Rome
BEGIN:VEVENT
UID:43@anpia.it
DTSTART;TZID=Europe/Rome:20251115T090000
DTEND;TZID=Europe/Rome:20251115T170000
DTSTAMP:20251117T200626Z
URL:https://anpia.it/eventi/masterclass-europrogettazione-ideaeuropa-presi
 dente-e-tamerici/
SUMMARY:Masterclass europrogettazione - IdeaEuropa - Presidente e Tamerici
DESCRIPTION:L'Associazione\, mediante la Presidente\, insieme a un membro d
 i Tamerici S.r.l. - partner ANPIA dal 2025 - partecipa alla masterclass su
 ll'europrogettazione tenuta da IdeaEuropa\, ente romano molto accreditato 
 nel campo della progettazione europea.\nL'obiettivo è triplice:\n\n 	Cono
 scere nel dettaglio l'offerta formativa dell'ente\;\n 	Raccogliere suggeri
 menti sullo scouting di bandi di finanziamento\;\n 	Identificare possibili
  collaborazioni.\n
LOCATION:Etoilè 23\, Piazza Tarquinia 5\, Roma\, 00183\, Lazio\, Italia
X-APPLE-STRUCTURED-LOCATION;VALUE=URI;X-ADDRESS=Piazza Tarquinia 5\, Roma\,
  00183\, Lazio\, Italia;X-APPLE-RADIUS=100;X-TITLE=Etoilè 23:geo:0,0
END:VEVENT
BEGIN:VTIMEZONE
TZID:Europe/Rome
X-LIC-LOCATION:Europe/Rome
BEGIN:STANDARD
DTSTART:20251026T020000
TZOFFSETFROM:+0200
TZOFFSETTO:+0100
TZNAME:CET
END:STANDARD
END:VTIMEZONE
END:VCALENDAR