BEGIN:VCALENDAR
VERSION:2.0
PRODID:-//wp-events-plugin.com//7.2.3.1//EN
TZID:Europe/Rome
X-WR-TIMEZONE:Europe/Rome
BEGIN:VEVENT
UID:38@anpia.it
DTSTART;TZID=Europe/Rome:20251020T150000
DTEND;TZID=Europe/Rome:20251020T163000
DTSTAMP:20251017T094944Z
URL:https://anpia.it/eventi/incontro-portatori-di-interesse-uni-romatre-pr
 esidente/
SUMMARY:Incontro portatori di interesse - UNI RomaTre - Presidente
DESCRIPTION:La Presidente prenderà parte all'incontro organizzato dal cors
 o di laurea magistrale in Scienze umane per l'ambiente\, del Dipartimento 
 di Studi Umanistici di Roma Tre.\nL'associazione\, individuata dagli organ
 izzatori come ente portatore di interesse rispetto al corso di laurea indi
 cato\, in visione di una prossima riorganizzazione  (diventerà un corso 
 monoclasse in Antropologia culturale)\,  è chiamata a intervenire per or
 ientare il percorso di formazione in ristrutturazione rispetto agli ambiti
  lavorativi\, volendo investire maggiormente su aspetti come gli impatti d
 ella crisi climatica e dell'ingiustizia sociale su territori e popolazioni
 .\nGli organizzatori dell'incontro sono: Arduina Fiorucci\, Valeria Ribeir
 o Corossacz\, Lorenzo Benadusi\, Luigi Guarnieri Calò Carducci e Giuliano
  Garavini.\nPer visionare il corso di studi corrente: https://www.uniroma
 3.it/corsi/dipartimento-di-studi-umanistici/lm/2023-2024/scienze-umane-per
 -lambiente-0580707300200001/
LOCATION:https://teams.microsoft.com/l/meetup-join/19%3ameeting_NzM0ZGZjM2U
 tNmIwZS00M2MzLWE4OWQtMWUwMzFjOGJiNzMx%40thread.v2/0?context=%7b%22Tid%22%3
 a%22ffb4df68-f464-458c-a546-00fb3af66f6a%22%2c%22Oid%22%3a%227fa12072-7041
 -4cf4-94f9-3758a8bbb4ba%22%7d
END:VEVENT
BEGIN:VTIMEZONE
TZID:Europe/Rome
X-LIC-LOCATION:Europe/Rome
BEGIN:DAYLIGHT
DTSTART:20250330T030000
TZOFFSETFROM:+0100
TZOFFSETTO:+0200
TZNAME:CEST
END:DAYLIGHT
END:VTIMEZONE
END:VCALENDARBEGIN:VCALENDAR
VERSION:2.0
PRODID:-//wp-events-plugin.com//7.2.3.1//EN
TZID:Europe/Rome
X-WR-TIMEZONE:Europe/Rome
BEGIN:VEVENT
UID:38@anpia.it
DTSTART;TZID=Europe/Rome:20251020T150000
DTEND;TZID=Europe/Rome:20251020T163000
DTSTAMP:20251017T094944Z
URL:https://anpia.it/eventi/incontro-portatori-di-interesse-uni-romatre-pr
 esidente/
SUMMARY:Incontro portatori di interesse - UNI RomaTre - Presidente
DESCRIPTION:La Presidente prenderà parte all'incontro organizzato dal cors
 o di laurea magistrale in Scienze umane per l'ambiente\, del Dipartimento 
 di Studi Umanistici di Roma Tre.\nL'associazione\, individuata dagli organ
 izzatori come ente portatore di interesse rispetto al corso di laurea indi
 cato\, in visione di una prossima riorganizzazione  (diventerà un corso 
 monoclasse in Antropologia culturale)\,  è chiamata a intervenire per or
 ientare il percorso di formazione in ristrutturazione rispetto agli ambiti
  lavorativi\, volendo investire maggiormente su aspetti come gli impatti d
 ella crisi climatica e dell'ingiustizia sociale su territori e popolazioni
 .\nGli organizzatori dell'incontro sono: Arduina Fiorucci\, Valeria Ribeir
 o Corossacz\, Lorenzo Benadusi\, Luigi Guarnieri Calò Carducci e Giuliano
  Garavini.\nPer visionare il corso di studi corrente: https://www.uniroma
 3.it/corsi/dipartimento-di-studi-umanistici/lm/2023-2024/scienze-umane-per
 -lambiente-0580707300200001/
LOCATION:https://teams.microsoft.com/l/meetup-join/19%3ameeting_NzM0ZGZjM2U
 tNmIwZS00M2MzLWE4OWQtMWUwMzFjOGJiNzMx%40thread.v2/0?context=%7b%22Tid%22%3
 a%22ffb4df68-f464-458c-a546-00fb3af66f6a%22%2c%22Oid%22%3a%227fa12072-7041
 -4cf4-94f9-3758a8bbb4ba%22%7d
END:VEVENT
BEGIN:VTIMEZONE
TZID:Europe/Rome
X-LIC-LOCATION:Europe/Rome
BEGIN:DAYLIGHT
DTSTART:20250330T030000
TZOFFSETFROM:+0100
TZOFFSETTO:+0200
TZNAME:CEST
END:DAYLIGHT
END:VTIMEZONE
END:VCALENDAR