BEGIN:VCALENDAR
VERSION:2.0
PRODID:-//wp-events-plugin.com//7.2.3.1//EN
TZID:Europe/Rome
X-WR-TIMEZONE:Europe/Rome
BEGIN:VEVENT
UID:66@anpia.it
DTSTART;TZID=Europe/Rome:20260331T140000
DTEND;TZID=Europe/Rome:20260331T150000
DTSTAMP:20260327T145712Z
URL:https://anpia.it/eventi/incontro-interassociativo-disegno-di-legge-141
 8-27235-siac-presidente/
SUMMARY:Incontro interassociativo\, disegno di legge 1418/27235 - SIAC\, Pr
 esidente
DESCRIPTION:L'Associazione partecipa\, per mezzo della presidente\, Maria C
 oncetta Segneri\, all'incontro organizzato dalla presidente della SIAC - S
 ocietà Italiana di Antropologia Culturale\, Giovanna Guerzoni\, cui sono 
 state invitate tutte le realtà scientifiche e associative italiane di ant
 ropologia\, per raccogliere suggerimenti e considerazioni sulla subarea S-
 DEA utili all'incontro di area 11 e 10 tenuta dal Governo in due date - il
  14/04/2026 e il 18/05/2026 - con l'obiettivo di redigere un documento com
 une sui "requisiti minimi di accesso" ai concorsi (ex ASN)\, oppure a altr
 e parti del disegno di legge 2735\, sulle quali si voglia attivare una qua
 lche attenzione.
LOCATION:http://meet
END:VEVENT
BEGIN:VTIMEZONE
TZID:Europe/Rome
X-LIC-LOCATION:Europe/Rome
BEGIN:DAYLIGHT
DTSTART:20260329T030000
TZOFFSETFROM:+0100
TZOFFSETTO:+0200
TZNAME:CEST
END:DAYLIGHT
END:VTIMEZONE
END:VCALENDARBEGIN:VCALENDAR
VERSION:2.0
PRODID:-//wp-events-plugin.com//7.2.3.1//EN
TZID:Europe/Rome
X-WR-TIMEZONE:Europe/Rome
BEGIN:VEVENT
UID:66@anpia.it
DTSTART;TZID=Europe/Rome:20260331T140000
DTEND;TZID=Europe/Rome:20260331T150000
DTSTAMP:20260327T145712Z
URL:https://anpia.it/eventi/incontro-interassociativo-disegno-di-legge-141
 8-27235-siac-presidente/
SUMMARY:Incontro interassociativo\, disegno di legge 1418/27235 - SIAC\, Pr
 esidente
DESCRIPTION:L'Associazione partecipa\, per mezzo della presidente\, Maria C
 oncetta Segneri\, all'incontro organizzato dalla presidente della SIAC - S
 ocietà Italiana di Antropologia Culturale\, Giovanna Guerzoni\, cui sono 
 state invitate tutte le realtà scientifiche e associative italiane di ant
 ropologia\, per raccogliere suggerimenti e considerazioni sulla subarea S-
 DEA utili all'incontro di area 11 e 10 tenuta dal Governo in due date - il
  14/04/2026 e il 18/05/2026 - con l'obiettivo di redigere un documento com
 une sui "requisiti minimi di accesso" ai concorsi (ex ASN)\, oppure a altr
 e parti del disegno di legge 2735\, sulle quali si voglia attivare una qua
 lche attenzione.
LOCATION:http://meet
END:VEVENT
BEGIN:VTIMEZONE
TZID:Europe/Rome
X-LIC-LOCATION:Europe/Rome
BEGIN:DAYLIGHT
DTSTART:20260329T030000
TZOFFSETFROM:+0100
TZOFFSETTO:+0200
TZNAME:CEST
END:DAYLIGHT
END:VTIMEZONE
END:VCALENDAR