BEGIN:VCALENDAR
VERSION:2.0
PRODID:-//wp-events-plugin.com//7.2.3.1//EN
TZID:Europe/Rome
X-WR-TIMEZONE:Europe/Rome
BEGIN:VEVENT
UID:67@anpia.it
DTSTART;TZID=Europe/Rome:20260409T183000
DTEND;TZID=Europe/Rome:20260409T193000
DTSTAMP:20260329T081813Z
URL:https://anpia.it/eventi/formazione-tra-pari-n-4-personal-branding-e-so
 cial-media/
SUMMARY:Formazione tra pari N.5 - Personal branding e social media
DESCRIPTION:Quinto appuntamento con la formazione tra pari destinata a3 soc
 3 ANPIA dal titolo "Antropologi visibili: personal branding e social media
  per valorizzare la professione".\nRelatrice: Alessandra Angiolini\, socia
 l media manager ANPIA.\nUn incontro online pensato per i soci e le socie c
 he vogliono imparare a raccontare il proprio percorso\, valorizzare le pro
 prie competenze e ampliare le opportunità professionali attraverso i soci
 al media. Verranno presentati strumenti pratici di personal branding per 
 costruire un’identità professionale chiara e riconoscibile online\, ins
 ieme a strategie concrete per utilizzare piattaforme come LinkedIn\, Inst
 agram e altri canali digitali in modo efficace e coerente con la professi
 one antropologica. Il webinar offrirà inoltre spunti su come sfruttare a
 l meglio le opportunità offerte da ANPIA\, creare rete tra professionisti
 \, aumentare la visibilità dei propri progetti e comunicare l’impatto d
 ell’antropologia nella società contemporanea. Attraverso esempi\, sugge
 rimenti operativi e buone pratiche di comunicazione digitale\, i partecipa
 nti acquisiranno strumenti utili per trasformare i social media in alleati
  per la propria carriera e per la promozione dell’antropologia professio
 nale.\nLink Zoom all'incontro: https://zoom.us/j/99929194260pwd=mbBDMA0hZw
 jJISzvRbKdIRFyi1Ubw5.1
LOCATION:https://zoom.us/j/99929194260pwd=mbBDMA0hZwjJISzvRbKdIRFyi1Ubw5.1
END:VEVENT
BEGIN:VTIMEZONE
TZID:Europe/Rome
X-LIC-LOCATION:Europe/Rome
BEGIN:DAYLIGHT
DTSTART:20260329T030000
TZOFFSETFROM:+0100
TZOFFSETTO:+0200
TZNAME:CEST
END:DAYLIGHT
END:VTIMEZONE
END:VCALENDARBEGIN:VCALENDAR
VERSION:2.0
PRODID:-//wp-events-plugin.com//7.2.3.1//EN
TZID:Europe/Rome
X-WR-TIMEZONE:Europe/Rome
BEGIN:VEVENT
UID:67@anpia.it
DTSTART;TZID=Europe/Rome:20260409T183000
DTEND;TZID=Europe/Rome:20260409T193000
DTSTAMP:20260329T081813Z
URL:https://anpia.it/eventi/formazione-tra-pari-n-4-personal-branding-e-so
 cial-media/
SUMMARY:Formazione tra pari N.5 - Personal branding e social media
DESCRIPTION:Quinto appuntamento con la formazione tra pari destinata a3 soc
 3 ANPIA dal titolo "Antropologi visibili: personal branding e social media
  per valorizzare la professione".\nRelatrice: Alessandra Angiolini\, socia
 l media manager ANPIA.\nUn incontro online pensato per i soci e le socie c
 he vogliono imparare a raccontare il proprio percorso\, valorizzare le pro
 prie competenze e ampliare le opportunità professionali attraverso i soci
 al media. Verranno presentati strumenti pratici di personal branding per 
 costruire un’identità professionale chiara e riconoscibile online\, ins
 ieme a strategie concrete per utilizzare piattaforme come LinkedIn\, Inst
 agram e altri canali digitali in modo efficace e coerente con la professi
 one antropologica. Il webinar offrirà inoltre spunti su come sfruttare a
 l meglio le opportunità offerte da ANPIA\, creare rete tra professionisti
 \, aumentare la visibilità dei propri progetti e comunicare l’impatto d
 ell’antropologia nella società contemporanea. Attraverso esempi\, sugge
 rimenti operativi e buone pratiche di comunicazione digitale\, i partecipa
 nti acquisiranno strumenti utili per trasformare i social media in alleati
  per la propria carriera e per la promozione dell’antropologia professio
 nale.\nLink Zoom all'incontro: https://zoom.us/j/99929194260pwd=mbBDMA0hZw
 jJISzvRbKdIRFyi1Ubw5.1
LOCATION:https://zoom.us/j/99929194260pwd=mbBDMA0hZwjJISzvRbKdIRFyi1Ubw5.1
END:VEVENT
BEGIN:VTIMEZONE
TZID:Europe/Rome
X-LIC-LOCATION:Europe/Rome
BEGIN:DAYLIGHT
DTSTART:20260329T030000
TZOFFSETFROM:+0100
TZOFFSETTO:+0200
TZNAME:CEST
END:DAYLIGHT
END:VTIMEZONE
END:VCALENDAR