BEGIN:VCALENDAR
VERSION:2.0
PRODID:-//wp-events-plugin.com//7.2.3.1//EN
TZID:Europe/Rome
X-WR-TIMEZONE:Europe/Rome
BEGIN:VEVENT
UID:37@anpia.it
DTSTART;TZID=Europe/Rome:20251004T150000
DTEND;TZID=Europe/Rome:20251004T153000
DTSTAMP:20251006T092640Z
URL:https://anpia.it/eventi/creativity-at-work-aan-siaa-vicepresidente/
SUMMARY:WWNA "Creativity at Work" evento EASA/SIAA - Vicepresidente
DESCRIPTION:ANPIA mediante il Vicepresidente interverrà all'evento promoss
 o da SIAA insieme all’EASA Applied Anthropology Network (AAN) dal titolo
  Why the World Needs Anthropologists 2025 – CREATIVITY AT WORK\, che si 
 terrà presso l'Università degli Studi di Bologna dal 3 al 5 ottobre 2025
 .\nNello specifico\, il Vicepresidente presenterà le attività associativ
 e nella sezione dedicata ai POV\, con un intervento dal titolo Work in pro
 gress. Professional Anthopology.\nProgramma complessivo dell'evento: https
 ://applied-anthropology.com/wwna2025
LOCATION:Università degli studi di Bologna\, Piazza San Giovanni in Monte 
 2\,\, Bologna\, 40124\, Emilia Romagna\, Italia
X-APPLE-STRUCTURED-LOCATION;VALUE=URI;X-ADDRESS=Piazza San Giovanni in Mont
 e 2\,\, Bologna\, 40124\, Emilia Romagna\, Italia;X-APPLE-RADIUS=100;X-TIT
 LE=Università degli studi di Bologna:geo:0,0
END:VEVENT
BEGIN:VTIMEZONE
TZID:Europe/Rome
X-LIC-LOCATION:Europe/Rome
BEGIN:DAYLIGHT
DTSTART:20250330T030000
TZOFFSETFROM:+0100
TZOFFSETTO:+0200
TZNAME:CEST
END:DAYLIGHT
END:VTIMEZONE
END:VCALENDARBEGIN:VCALENDAR
VERSION:2.0
PRODID:-//wp-events-plugin.com//7.2.3.1//EN
TZID:Europe/Rome
X-WR-TIMEZONE:Europe/Rome
BEGIN:VEVENT
UID:37@anpia.it
DTSTART;TZID=Europe/Rome:20251004T150000
DTEND;TZID=Europe/Rome:20251004T153000
DTSTAMP:20251006T092640Z
URL:https://anpia.it/eventi/creativity-at-work-aan-siaa-vicepresidente/
SUMMARY:WWNA "Creativity at Work" evento EASA/SIAA - Vicepresidente
DESCRIPTION:ANPIA mediante il Vicepresidente interverrà all'evento promoss
 o da SIAA insieme all’EASA Applied Anthropology Network (AAN) dal titolo
  Why the World Needs Anthropologists 2025 – CREATIVITY AT WORK\, che si 
 terrà presso l'Università degli Studi di Bologna dal 3 al 5 ottobre 2025
 .\nNello specifico\, il Vicepresidente presenterà le attività associativ
 e nella sezione dedicata ai POV\, con un intervento dal titolo Work in pro
 gress. Professional Anthopology.\nProgramma complessivo dell'evento: https
 ://applied-anthropology.com/wwna2025
LOCATION:Università degli studi di Bologna\, Piazza San Giovanni in Monte 
 2\,\, Bologna\, 40124\, Emilia Romagna\, Italia
X-APPLE-STRUCTURED-LOCATION;VALUE=URI;X-ADDRESS=Piazza San Giovanni in Mont
 e 2\,\, Bologna\, 40124\, Emilia Romagna\, Italia;X-APPLE-RADIUS=100;X-TIT
 LE=Università degli studi di Bologna:geo:0,0
END:VEVENT
BEGIN:VTIMEZONE
TZID:Europe/Rome
X-LIC-LOCATION:Europe/Rome
BEGIN:DAYLIGHT
DTSTART:20250330T030000
TZOFFSETFROM:+0100
TZOFFSETTO:+0200
TZNAME:CEST
END:DAYLIGHT
END:VTIMEZONE
END:VCALENDAR