BEGIN:VCALENDAR
VERSION:2.0
PRODID:-//wp-events-plugin.com//7.2.3.1//EN
TZID:Europe/Rome
X-WR-TIMEZONE:Europe/Rome
BEGIN:VEVENT
UID:42@anpia.it
DTSTART;TZID=Europe/Rome:20251110T173000
DTEND;TZID=Europe/Rome:20251110T190000
DTSTAMP:20251117T195017Z
URL:https://anpia.it/eventi/consultazione-parti-sociali-lm-1-uni-messina-p
 residente/
SUMMARY:Consultazione parti sociali LM-1 UNI Messina - Presidente
DESCRIPTION:L'Associazione\, tramite la Presidente\, prende parte alla cons
 ultazione delle parti sociali richiesta dal Dipartimento di Studi Cognitiv
 i\, Psicologici\, Pedagogici e degli Studi Culturali (COSPECS) dell’Univ
 ersità degli Studi di Messina per fornire osservazioni\, suggerimenti e i
 ndicazioni utili alla costruzione del nuovo Corso di Laurea Magistrale in 
 Antropologia e Territorio.\nIl progetto didattico è basato sull’integra
 zione di discipline antropologiche\, sociologiche e geografiche e mira a f
 ornire solide competenze metodologiche\, qualitative ed etnografiche\, aff
 iancate da esperienze applicate sul campo e da laboratori di pianificazion
 e territoriale e scrittura progettuale.\nL’obiettivo è formare professi
 onisti e professioniste in grado di operare nei contesti del terzo settore
 \, delle istituzioni culturali e della pianificazione partecipata dei terr
 itori\, promuovendo pratiche di ricerca e intervento attente alle dinamich
 e locali e alle diversità culturali.
LOCATION:http://360%20472%20392%20254%2024
END:VEVENT
BEGIN:VTIMEZONE
TZID:Europe/Rome
X-LIC-LOCATION:Europe/Rome
BEGIN:STANDARD
DTSTART:20251026T020000
TZOFFSETFROM:+0200
TZOFFSETTO:+0100
TZNAME:CET
END:STANDARD
END:VTIMEZONE
END:VCALENDARBEGIN:VCALENDAR
VERSION:2.0
PRODID:-//wp-events-plugin.com//7.2.3.1//EN
TZID:Europe/Rome
X-WR-TIMEZONE:Europe/Rome
BEGIN:VEVENT
UID:42@anpia.it
DTSTART;TZID=Europe/Rome:20251110T173000
DTEND;TZID=Europe/Rome:20251110T190000
DTSTAMP:20251117T195017Z
URL:https://anpia.it/eventi/consultazione-parti-sociali-lm-1-uni-messina-p
 residente/
SUMMARY:Consultazione parti sociali LM-1 UNI Messina - Presidente
DESCRIPTION:L'Associazione\, tramite la Presidente\, prende parte alla cons
 ultazione delle parti sociali richiesta dal Dipartimento di Studi Cognitiv
 i\, Psicologici\, Pedagogici e degli Studi Culturali (COSPECS) dell’Univ
 ersità degli Studi di Messina per fornire osservazioni\, suggerimenti e i
 ndicazioni utili alla costruzione del nuovo Corso di Laurea Magistrale in 
 Antropologia e Territorio.\nIl progetto didattico è basato sull’integra
 zione di discipline antropologiche\, sociologiche e geografiche e mira a f
 ornire solide competenze metodologiche\, qualitative ed etnografiche\, aff
 iancate da esperienze applicate sul campo e da laboratori di pianificazion
 e territoriale e scrittura progettuale.\nL’obiettivo è formare professi
 onisti e professioniste in grado di operare nei contesti del terzo settore
 \, delle istituzioni culturali e della pianificazione partecipata dei terr
 itori\, promuovendo pratiche di ricerca e intervento attente alle dinamich
 e locali e alle diversità culturali.
LOCATION:http://360%20472%20392%20254%2024
END:VEVENT
BEGIN:VTIMEZONE
TZID:Europe/Rome
X-LIC-LOCATION:Europe/Rome
BEGIN:STANDARD
DTSTART:20251026T020000
TZOFFSETFROM:+0200
TZOFFSETTO:+0100
TZNAME:CET
END:STANDARD
END:VTIMEZONE
END:VCALENDAR