BEGIN:VCALENDAR
VERSION:2.0
PRODID:-//wp-events-plugin.com//7.2.3.1//EN
TZID:Europe/Rome
X-WR-TIMEZONE:Europe/Rome
BEGIN:VEVENT
UID:28@anpia.it
DTSTART;TZID=Europe/Rome:20250806T100000
DTEND;TZID=Europe/Rome:20250909T100000
DTSTAMP:20250708T205645Z
URL:https://anpia.it/eventi/chiusura-estiva-segreteria-anpia/
SUMMARY:Chiusura estiva segreteria ANPIA
DESCRIPTION:La Segreteria ANPIA informa i soc3 che sarà chiusa per la paus
 a estiva dal 6 agosto al 9 settembre 2025.
END:VEVENT
BEGIN:VTIMEZONE
TZID:Europe/Rome
X-LIC-LOCATION:Europe/Rome
BEGIN:DAYLIGHT
DTSTART:20250330T030000
TZOFFSETFROM:+0100
TZOFFSETTO:+0200
TZNAME:CEST
END:DAYLIGHT
END:VTIMEZONE
END:VCALENDARBEGIN:VCALENDAR
VERSION:2.0
PRODID:-//wp-events-plugin.com//7.2.3.1//EN
TZID:Europe/Rome
X-WR-TIMEZONE:Europe/Rome
BEGIN:VEVENT
UID:28@anpia.it
DTSTART;TZID=Europe/Rome:20250806T100000
DTEND;TZID=Europe/Rome:20250909T100000
DTSTAMP:20250708T205645Z
URL:https://anpia.it/eventi/chiusura-estiva-segreteria-anpia/
SUMMARY:Chiusura estiva segreteria ANPIA
DESCRIPTION:La Segreteria ANPIA informa i soc3 che sarà chiusa per la paus
 a estiva dal 6 agosto al 9 settembre 2025.
END:VEVENT
BEGIN:VTIMEZONE
TZID:Europe/Rome
X-LIC-LOCATION:Europe/Rome
BEGIN:DAYLIGHT
DTSTART:20250330T030000
TZOFFSETFROM:+0100
TZOFFSETTO:+0200
TZNAME:CEST
END:DAYLIGHT
END:VTIMEZONE
END:VCALENDAR