BEGIN:VCALENDAR
VERSION:2.0
PRODID:-//wp-events-plugin.com//7.2.3.1//EN
TZID:Europe/Rome
X-WR-TIMEZONE:Europe/Rome
BEGIN:VEVENT
UID:27@anpia.it
DTSTART;TZID=Europe/Rome:20250628T133000
DTEND;TZID=Europe/Rome:20250808T133000
DTSTAMP:20250708T205102Z
URL:https://anpia.it/eventi/call-soc3-per-pianificazione-attivita-associat
 ive/
SUMMARY:CALL soc3 per pianificazione attività associative
DESCRIPTION:La Segreteria ANPIA invita i soc3 a partecipare a tre CALL per 
 raccogliere proposte e manifestazioni di interesse su n. 3 ambiti specific
 i\, oggetto della pianificazione delle attività associative da settembre.
 \n1. Servizi - Segnalazione di nuovi servizi prioritari per la propria att
 ività professionale da attivare in aggiunta a quelli esistenti (consulenz
 a fiscale\, consulenza contrattuale del lavoro\, europrogettazione).\n2. 
 Formazione online tra pari - Manifestazione di interesse a prendere parte\
 , in qualità di formator3 oppure di partecipante\, al ciclo di incontri t
 ra soc3\, su base volontaria\, con taglio operativo e online\, per condivi
 dere strumenti\, esperienze e competenze maturate nel corso della propria 
 attività professionale. Segnalare l'argomento che si propone (per es. Pre
 pararsi ai concorsi pubblici: orientarsi tra bandi\, requisiti e documenta
 zione utile)  e il rispettivo ruolo (per es. a cura di Mario Bianchi).\n3
 . Pubblicazioni a marchio ANPIA (codici ISBN) - Proposta di un progetto e
 ditoriale (contributi originali\, per es. saggi\, manuali\, articoli\, rac
 colte\, materiali divulgativi) da sottoporre alle Pubblicazioni a marchio 
 ANPIA. Inviare una breve descrizione dell’idea per la valutazione della 
 coerenza rispetto alle finalità associative\, della qualità e della sost
 enibilità.\nSegnalare all'indirizzo: segreteria@anpia.it\nDeadline: 8 ago
 sto 2025
END:VEVENT
BEGIN:VTIMEZONE
TZID:Europe/Rome
X-LIC-LOCATION:Europe/Rome
BEGIN:DAYLIGHT
DTSTART:20250330T030000
TZOFFSETFROM:+0100
TZOFFSETTO:+0200
TZNAME:CEST
END:DAYLIGHT
END:VTIMEZONE
END:VCALENDARBEGIN:VCALENDAR
VERSION:2.0
PRODID:-//wp-events-plugin.com//7.2.3.1//EN
TZID:Europe/Rome
X-WR-TIMEZONE:Europe/Rome
BEGIN:VEVENT
UID:27@anpia.it
DTSTART;TZID=Europe/Rome:20250628T133000
DTEND;TZID=Europe/Rome:20250808T133000
DTSTAMP:20250708T205102Z
URL:https://anpia.it/eventi/call-soc3-per-pianificazione-attivita-associat
 ive/
SUMMARY:CALL soc3 per pianificazione attività associative
DESCRIPTION:La Segreteria ANPIA invita i soc3 a partecipare a tre CALL per 
 raccogliere proposte e manifestazioni di interesse su n. 3 ambiti specific
 i\, oggetto della pianificazione delle attività associative da settembre.
 \n1. Servizi - Segnalazione di nuovi servizi prioritari per la propria att
 ività professionale da attivare in aggiunta a quelli esistenti (consulenz
 a fiscale\, consulenza contrattuale del lavoro\, europrogettazione).\n2. 
 Formazione online tra pari - Manifestazione di interesse a prendere parte\
 , in qualità di formator3 oppure di partecipante\, al ciclo di incontri t
 ra soc3\, su base volontaria\, con taglio operativo e online\, per condivi
 dere strumenti\, esperienze e competenze maturate nel corso della propria 
 attività professionale. Segnalare l'argomento che si propone (per es. Pre
 pararsi ai concorsi pubblici: orientarsi tra bandi\, requisiti e documenta
 zione utile)  e il rispettivo ruolo (per es. a cura di Mario Bianchi).\n3
 . Pubblicazioni a marchio ANPIA (codici ISBN) - Proposta di un progetto e
 ditoriale (contributi originali\, per es. saggi\, manuali\, articoli\, rac
 colte\, materiali divulgativi) da sottoporre alle Pubblicazioni a marchio 
 ANPIA. Inviare una breve descrizione dell’idea per la valutazione della 
 coerenza rispetto alle finalità associative\, della qualità e della sost
 enibilità.\nSegnalare all'indirizzo: segreteria@anpia.it\nDeadline: 8 ago
 sto 2025
END:VEVENT
BEGIN:VTIMEZONE
TZID:Europe/Rome
X-LIC-LOCATION:Europe/Rome
BEGIN:DAYLIGHT
DTSTART:20250330T030000
TZOFFSETFROM:+0100
TZOFFSETTO:+0200
TZNAME:CEST
END:DAYLIGHT
END:VTIMEZONE
END:VCALENDAR