BEGIN:VCALENDAR
VERSION:2.0
PRODID:-//wp-events-plugin.com//7.2.3.1//EN
TZID:Europe/Rome
X-WR-TIMEZONE:Europe/Rome
BEGIN:VEVENT
UID:9@anpia.it
DTSTART;TZID=Europe/Rome;VALUE=DATE:20250405
DTEND;TZID=Europe/Rome;VALUE=DATE:20250407
DTSTAMP:20250327T070839Z
URL:https://anpia.it/eventi/assemblea-ordinaria-anpia-modalita-mista/
SUMMARY:Assemblea ordinaria ANPIA (modalità mista)
DESCRIPTION:05/04 - ore 10.00-18.00\, in presenza presso INMP\, via di San 
 Gallicano 25/a\, Roma\; da remoto su Zoom: https://zoom.us/j/99775995039?p
 wd=x9Gr66albgYJX8LF5a9aWex8oCTpfJ.1\n06/04 - ore 10.00-13.30\, in presenza
  presso INMP\, via di San Gallicano 25/a\, Roma\; da remoto su Zoom: https
 ://zoom.us/j/96178072136?pwd=4vKOx6eGWlgpDbtb9FYMeegcgmp28N.1\n\nhttps://a
 npia.it/assemblea-ordinaria-2025-programma-location-e-altro/\n\n&nbsp\;
LOCATION:Istituto Nazionale per la promozione della salute delle popolazion
 i Migranti e per il contrasto delle malattie della Povertà (INMP)\, Via d
 i San Gallicano 25/a\, Roma\, Roma\, 00153\, Lazio\, Italia
X-APPLE-STRUCTURED-LOCATION;VALUE=URI;X-ADDRESS=Via di San Gallicano 25/a\,
  Roma\, Roma\, 00153\, Lazio\, Italia;X-APPLE-RADIUS=100;X-TITLE=Istituto 
 Nazionale per la promozione della salute delle popolazioni Migranti e per 
 il contrasto delle malattie della Povertà (INMP):geo:0,0
END:VEVENT
BEGIN:VTIMEZONE
TZID:Europe/Rome
X-LIC-LOCATION:Europe/Rome
BEGIN:DAYLIGHT
DTSTART:20250330T030000
TZOFFSETFROM:+0100
TZOFFSETTO:+0200
TZNAME:CEST
END:DAYLIGHT
END:VTIMEZONE
END:VCALENDARBEGIN:VCALENDAR
VERSION:2.0
PRODID:-//wp-events-plugin.com//7.2.3.1//EN
TZID:Europe/Rome
X-WR-TIMEZONE:Europe/Rome
BEGIN:VEVENT
UID:9@anpia.it
DTSTART;TZID=Europe/Rome;VALUE=DATE:20250405
DTEND;TZID=Europe/Rome;VALUE=DATE:20250407
DTSTAMP:20250327T070839Z
URL:https://anpia.it/eventi/assemblea-ordinaria-anpia-modalita-mista/
SUMMARY:Assemblea ordinaria ANPIA (modalità mista)
DESCRIPTION:05/04 - ore 10.00-18.00\, in presenza presso INMP\, via di San 
 Gallicano 25/a\, Roma\; da remoto su Zoom: https://zoom.us/j/99775995039?p
 wd=x9Gr66albgYJX8LF5a9aWex8oCTpfJ.1\n06/04 - ore 10.00-13.30\, in presenza
  presso INMP\, via di San Gallicano 25/a\, Roma\; da remoto su Zoom: https
 ://zoom.us/j/96178072136?pwd=4vKOx6eGWlgpDbtb9FYMeegcgmp28N.1\n\nhttps://a
 npia.it/assemblea-ordinaria-2025-programma-location-e-altro/\n\n&nbsp\;
LOCATION:Istituto Nazionale per la promozione della salute delle popolazion
 i Migranti e per il contrasto delle malattie della Povertà (INMP)\, Via d
 i San Gallicano 25/a\, Roma\, Roma\, 00153\, Lazio\, Italia
X-APPLE-STRUCTURED-LOCATION;VALUE=URI;X-ADDRESS=Via di San Gallicano 25/a\,
  Roma\, Roma\, 00153\, Lazio\, Italia;X-APPLE-RADIUS=100;X-TITLE=Istituto 
 Nazionale per la promozione della salute delle popolazioni Migranti e per 
 il contrasto delle malattie della Povertà (INMP):geo:0,0
END:VEVENT
BEGIN:VTIMEZONE
TZID:Europe/Rome
X-LIC-LOCATION:Europe/Rome
BEGIN:DAYLIGHT
DTSTART:20250330T030000
TZOFFSETFROM:+0100
TZOFFSETTO:+0200
TZNAME:CEST
END:DAYLIGHT
END:VTIMEZONE
END:VCALENDAR