BEGIN:VCALENDAR
VERSION:2.0
PRODID:-//wp-events-plugin.com//7.2.3.1//EN
TZID:Europe/Rome
X-WR-TIMEZONE:Europe/Rome
BEGIN:VEVENT
UID:6@anpia.it
DTSTART;TZID=Europe/Rome:20250321T100000
DTEND;TZID=Europe/Rome:20250321T180000
DTSTAMP:20250220T192321Z
URL:https://anpia.it/eventi/assemblea-generale-del-colap/
SUMMARY:Assemblea generale del CoLAP
DESCRIPTION:https://anpia.it/assemblea-generale-del-colap-21-03-2025-roma/
LOCATION:Società INFOCERT/TINEXA\, Piazzale Flaminio 1/B\, Roma\, Italia
X-APPLE-STRUCTURED-LOCATION;VALUE=URI;X-ADDRESS=Piazzale Flaminio 1/B\, Rom
 a\, Italia;X-APPLE-RADIUS=100;X-TITLE=Società INFOCERT/TINEXA:geo:0,0
END:VEVENT
BEGIN:VTIMEZONE
TZID:Europe/Rome
X-LIC-LOCATION:Europe/Rome
BEGIN:STANDARD
DTSTART:20241027T020000
TZOFFSETFROM:+0200
TZOFFSETTO:+0100
TZNAME:CET
END:STANDARD
END:VTIMEZONE
END:VCALENDARBEGIN:VCALENDAR
VERSION:2.0
PRODID:-//wp-events-plugin.com//7.2.3.1//EN
TZID:Europe/Rome
X-WR-TIMEZONE:Europe/Rome
BEGIN:VEVENT
UID:6@anpia.it
DTSTART;TZID=Europe/Rome:20250321T100000
DTEND;TZID=Europe/Rome:20250321T180000
DTSTAMP:20250220T192321Z
URL:https://anpia.it/eventi/assemblea-generale-del-colap/
SUMMARY:Assemblea generale del CoLAP
DESCRIPTION:https://anpia.it/assemblea-generale-del-colap-21-03-2025-roma/
LOCATION:Società INFOCERT/TINEXA\, Piazzale Flaminio 1/B\, Roma\, Italia
X-APPLE-STRUCTURED-LOCATION;VALUE=URI;X-ADDRESS=Piazzale Flaminio 1/B\, Rom
 a\, Italia;X-APPLE-RADIUS=100;X-TITLE=Società INFOCERT/TINEXA:geo:0,0
END:VEVENT
BEGIN:VTIMEZONE
TZID:Europe/Rome
X-LIC-LOCATION:Europe/Rome
BEGIN:STANDARD
DTSTART:20241027T020000
TZOFFSETFROM:+0200
TZOFFSETTO:+0100
TZNAME:CET
END:STANDARD
END:VTIMEZONE
END:VCALENDAR