BEGIN:VCALENDAR
VERSION:2.0
PRODID:-//wp-events-plugin.com//7.2.3.1//EN
TZID:Europe/Rome
X-WR-TIMEZONE:Europe/Rome
BEGIN:VEVENT
UID:40@anpia.it
DTSTART;TZID=Europe/Rome:20251104T153000
DTEND;TZID=Europe/Rome:20251104T193000
DTSTAMP:20251030T211312Z
URL:https://anpia.it/eventi/antropologi-al-lavoro-scuola-di-specializzazio
 ne-in-beni-demoetnoantropologici-unisapienza-presidente-e-vicepresidente/
SUMMARY:Antropologi al lavoro\, Scuola di Specializzazione in Beni Demoetno
 antropologici\, UNISapienza - Presidente e Vicepresidente
DESCRIPTION:La Presidente e il Vicepresidente partecipano al seminario dal 
 titolo "Antropologi al lavoro. Pratiche\, percorsi e prospettive" promosso
  dalla Scuola di Specializzazione in Beni Demoetnoantropologici dell'Unive
 rsità La Sapienza di Roma\, direttrice prof. Anna Iuso.\nIl seminario\, p
 atrocinato dalla SIAC e da ANPIA\, si svolgerà il 4/11/2025 dalle ore 15.
 30 alle ore 19.30 sia in presenza\, presso l'Aula Ernesto de Martino della
  Facoltà di Lettere e Filosofia\, sia online all'indirizzo https://meet.g
 oogle.com/svq-mfpu-but.\nIl seminario si propone di avviare una riflessio
 ne sul tema dell’antropologia professionale\, a partire da una panoramic
 a generale sul ruolo e sulle prospettive dell’antropologo al di fuori de
 ll’ambito accademico. L’incontro mira a offrire agli studenti e alle s
 tudentesse una visione concreta delle possibilità lavorative nel campo de
 ll’antropologia\, delineando i principali settori di intervento\, le com
 petenze richieste e le forme di riconoscimento professionale.\nA partire d
 al primo Report sull’antropologia professionale in Italia elaborato dall
 ’ANPIA\, la discussione introduttiva affronterà i temi della formazione
  e delle pratiche dell’antropologia in contesti istituzionali\, aziendal
 i e associativi.\nLa Scuola di specializzazione in beni demoetnoantropolog
 ici rappresenta\, in questo quadro\, un osservatorio privilegiato per inte
 rrogarsi sul rapporto tra formazione e professione. Attraverso il confront
 o con i profili e le esperienze dei relatori\, il seminario intende rispon
 dere in modo concreto a una domanda centrale: cosa significa\, oggi\, lavo
 rare come antropologi e come si costruisce un percorso professionale in qu
 esto campo? Seguirà un approfondimento dedicato all’antropologia del pa
 trimonio e\, in particolare\, al ruolo dell’antropologo all’interno de
 l Ministero della Cultura\, con attenzione alle modalità di collaborazion
 e con la pubblica amministrazione e alle prospettive per i professionisti 
 e i lavoratori indipendenti nel settore dei beni culturali.\n\nI relatori 
 coinvolti sono:\n\n 	Anna Iuso\, Direttrice Scuola di Specializzazione in 
 Beni Demoetnoantropologici\, Sapienza Università di Roma\n 	Maria Concett
 a Segneri\, Presidente ANPIA\n 	Francesco Aliberti\, MiC\, Soprintendenza 
 Speciale Archeologia Belle Arti e Paesaggio di Roma\n 	Francesca Romana Uc
 cella\, MiC\, Museo delle Civiltà\n 	Valeria Trupiano\, MiC\, Istituto Ce
 ntrale per il Patrimonio Immateriale\n 	Fabrizio Magnani\, MiC\, Istituto 
 Centrale per il Catalogo e la Documentazione\n 	Daniele Quadraccia\, MiC\,
  Soprintendenza Archeologia\, Belle Arti e Paesaggio per il Molise\n 	Flav
 io Lorenzoni\, Libero professionista\, Vicepresidente ANPIA\n
LOCATION:Aula Ernesto de Martino\, Piazzale Aldo Moro 5\, Roma\, 00185 \, L
 azio\, Italia
X-APPLE-STRUCTURED-LOCATION;VALUE=URI;X-ADDRESS=Piazzale Aldo Moro 5\, Roma
 \, 00185 \, Lazio\, Italia;X-APPLE-RADIUS=100;X-TITLE=Aula Ernesto de Mart
 ino:geo:0,0
END:VEVENT
BEGIN:VTIMEZONE
TZID:Europe/Rome
X-LIC-LOCATION:Europe/Rome
BEGIN:STANDARD
DTSTART:20251026T020000
TZOFFSETFROM:+0200
TZOFFSETTO:+0100
TZNAME:CET
END:STANDARD
END:VTIMEZONE
END:VCALENDARBEGIN:VCALENDAR
VERSION:2.0
PRODID:-//wp-events-plugin.com//7.2.3.1//EN
TZID:Europe/Rome
X-WR-TIMEZONE:Europe/Rome
BEGIN:VEVENT
UID:40@anpia.it
DTSTART;TZID=Europe/Rome:20251104T153000
DTEND;TZID=Europe/Rome:20251104T193000
DTSTAMP:20251030T211312Z
URL:https://anpia.it/eventi/antropologi-al-lavoro-scuola-di-specializzazio
 ne-in-beni-demoetnoantropologici-unisapienza-presidente-e-vicepresidente/
SUMMARY:Antropologi al lavoro\, Scuola di Specializzazione in Beni Demoetno
 antropologici\, UNISapienza - Presidente e Vicepresidente
DESCRIPTION:La Presidente e il Vicepresidente partecipano al seminario dal 
 titolo "Antropologi al lavoro. Pratiche\, percorsi e prospettive" promosso
  dalla Scuola di Specializzazione in Beni Demoetnoantropologici dell'Unive
 rsità La Sapienza di Roma\, direttrice prof. Anna Iuso.\nIl seminario\, p
 atrocinato dalla SIAC e da ANPIA\, si svolgerà il 4/11/2025 dalle ore 15.
 30 alle ore 19.30 sia in presenza\, presso l'Aula Ernesto de Martino della
  Facoltà di Lettere e Filosofia\, sia online all'indirizzo https://meet.g
 oogle.com/svq-mfpu-but.\nIl seminario si propone di avviare una riflessio
 ne sul tema dell’antropologia professionale\, a partire da una panoramic
 a generale sul ruolo e sulle prospettive dell’antropologo al di fuori de
 ll’ambito accademico. L’incontro mira a offrire agli studenti e alle s
 tudentesse una visione concreta delle possibilità lavorative nel campo de
 ll’antropologia\, delineando i principali settori di intervento\, le com
 petenze richieste e le forme di riconoscimento professionale.\nA partire d
 al primo Report sull’antropologia professionale in Italia elaborato dall
 ’ANPIA\, la discussione introduttiva affronterà i temi della formazione
  e delle pratiche dell’antropologia in contesti istituzionali\, aziendal
 i e associativi.\nLa Scuola di specializzazione in beni demoetnoantropolog
 ici rappresenta\, in questo quadro\, un osservatorio privilegiato per inte
 rrogarsi sul rapporto tra formazione e professione. Attraverso il confront
 o con i profili e le esperienze dei relatori\, il seminario intende rispon
 dere in modo concreto a una domanda centrale: cosa significa\, oggi\, lavo
 rare come antropologi e come si costruisce un percorso professionale in qu
 esto campo? Seguirà un approfondimento dedicato all’antropologia del pa
 trimonio e\, in particolare\, al ruolo dell’antropologo all’interno de
 l Ministero della Cultura\, con attenzione alle modalità di collaborazion
 e con la pubblica amministrazione e alle prospettive per i professionisti 
 e i lavoratori indipendenti nel settore dei beni culturali.\n\nI relatori 
 coinvolti sono:\n\n 	Anna Iuso\, Direttrice Scuola di Specializzazione in 
 Beni Demoetnoantropologici\, Sapienza Università di Roma\n 	Maria Concett
 a Segneri\, Presidente ANPIA\n 	Francesco Aliberti\, MiC\, Soprintendenza 
 Speciale Archeologia Belle Arti e Paesaggio di Roma\n 	Francesca Romana Uc
 cella\, MiC\, Museo delle Civiltà\n 	Valeria Trupiano\, MiC\, Istituto Ce
 ntrale per il Patrimonio Immateriale\n 	Fabrizio Magnani\, MiC\, Istituto 
 Centrale per il Catalogo e la Documentazione\n 	Daniele Quadraccia\, MiC\,
  Soprintendenza Archeologia\, Belle Arti e Paesaggio per il Molise\n 	Flav
 io Lorenzoni\, Libero professionista\, Vicepresidente ANPIA\n
LOCATION:Aula Ernesto de Martino\, Piazzale Aldo Moro 5\, Roma\, 00185 \, L
 azio\, Italia
X-APPLE-STRUCTURED-LOCATION;VALUE=URI;X-ADDRESS=Piazzale Aldo Moro 5\, Roma
 \, 00185 \, Lazio\, Italia;X-APPLE-RADIUS=100;X-TITLE=Aula Ernesto de Mart
 ino:geo:0,0
END:VEVENT
BEGIN:VTIMEZONE
TZID:Europe/Rome
X-LIC-LOCATION:Europe/Rome
BEGIN:STANDARD
DTSTART:20251026T020000
TZOFFSETFROM:+0200
TZOFFSETTO:+0100
TZNAME:CET
END:STANDARD
END:VTIMEZONE
END:VCALENDAR