BEGIN:VCALENDAR
VERSION:2.0
PRODID:-//wp-events-plugin.com//7.2.3.1//EN
TZID:Europe/Rome
X-WR-TIMEZONE:Europe/Rome
BEGIN:VEVENT
UID:55@anpia.it
DTSTART;TZID=Europe/Rome:20260514T183000
DTEND;TZID=Europe/Rome:20260514T193000
DTSTAMP:20260330T150326Z
URL:https://anpia.it/eventi/8294/
SUMMARY:Formazione tra pari N.6 - Sentirsi antropologo
DESCRIPTION:Il 14/05/2026\, dalle ore 18.30 alle ore 19.30\, si terrà il s
 esto appuntamento con la formazione tra pari indirizzati ai soc3 ANPIA dal
  titolo L’antropologo e l’impostore: la difficile arte di sentirsi ant
 ropologo tenuto dal socio e consigliere Damiano Gallinaro.\nL'evento si t
 errà su Zoom al seguente link: https://zoom.us/j/92186546408?pwd=nOGB99xp
 EaoBbZbGequYmUwWlzZPio.1\nPer chi non potesse partecipare\, potrà consult
 are il video e/o i materiali proiettati presso l'area dedicata ai soc3 ANP
 IA. Saranno disponibili dopo l'evento.
LOCATION:https://zoom.us/j/98493357225?pwd=JFF7cnCqLVDIkmbbeRZniSBgS1bozU.1
END:VEVENT
BEGIN:VTIMEZONE
TZID:Europe/Rome
X-LIC-LOCATION:Europe/Rome
BEGIN:DAYLIGHT
DTSTART:20260329T030000
TZOFFSETFROM:+0100
TZOFFSETTO:+0200
TZNAME:CEST
END:DAYLIGHT
END:VTIMEZONE
END:VCALENDARBEGIN:VCALENDAR
VERSION:2.0
PRODID:-//wp-events-plugin.com//7.2.3.1//EN
TZID:Europe/Rome
X-WR-TIMEZONE:Europe/Rome
BEGIN:VEVENT
UID:55@anpia.it
DTSTART;TZID=Europe/Rome:20260514T183000
DTEND;TZID=Europe/Rome:20260514T193000
DTSTAMP:20260330T150326Z
URL:https://anpia.it/eventi/8294/
SUMMARY:Formazione tra pari N.6 - Sentirsi antropologo
DESCRIPTION:Il 14/05/2026\, dalle ore 18.30 alle ore 19.30\, si terrà il s
 esto appuntamento con la formazione tra pari indirizzati ai soc3 ANPIA dal
  titolo L’antropologo e l’impostore: la difficile arte di sentirsi ant
 ropologo tenuto dal socio e consigliere Damiano Gallinaro.\nL'evento si t
 errà su Zoom al seguente link: https://zoom.us/j/92186546408?pwd=nOGB99xp
 EaoBbZbGequYmUwWlzZPio.1\nPer chi non potesse partecipare\, potrà consult
 are il video e/o i materiali proiettati presso l'area dedicata ai soc3 ANP
 IA. Saranno disponibili dopo l'evento.
LOCATION:https://zoom.us/j/98493357225?pwd=JFF7cnCqLVDIkmbbeRZniSBgS1bozU.1
END:VEVENT
BEGIN:VTIMEZONE
TZID:Europe/Rome
X-LIC-LOCATION:Europe/Rome
BEGIN:DAYLIGHT
DTSTART:20260329T030000
TZOFFSETFROM:+0100
TZOFFSETTO:+0200
TZNAME:CEST
END:DAYLIGHT
END:VTIMEZONE
END:VCALENDAR