BEGIN:VCALENDAR
VERSION:2.0
PRODID:-//wp-events-plugin.com//7.2.3.1//EN
TZID:Europe/Rome
X-WR-TIMEZONE:Europe/Rome
BEGIN:VEVENT
UID:41@anpia.it
DTSTART;TZID=Europe/Rome:20251218T090000
DTEND;TZID=Europe/Rome:20251218T140000
DTSTAMP:20251030T214507Z
URL:https://anpia.it/eventi/1a-edizione-professioni-tra-innovazione-svilup
 po-colap-presidente/
SUMMARY:1a Edizione Professioni tra Innovazione & Sviluppo - CoLAP - Presid
 ente
DESCRIPTION:La Presidente partecipa all'evento promosso dal CoLAP dal titol
 o "1a Edizione. Professioni tra Innovazione e Sviluppo. La legge 4/2013 ne
 ll'era dell'intelligenza artificiale: valorizzare il Professionista tra qu
 alità\, riconoscibilità e nuovi modelli di welfare"\, iniziativa che ha 
 raccolto il plauso del Presidente della Repubblica\, Sergio Mattarella.\nS
 i terrà il 18/12/2025 dalle ore 9.00 alle ore 14.oo presso la Sala Refett
 orio del Palazzo San Macuto\, Via del Seminario 76\, Roma.\nArgomento cent
 rale dell'evento sono le sfide affrontate dal professionista rispetto all'
 innovazione tecnica\, scientifica e culturale. Quali saranno i nuovi bisog
 ni? Come cambierà la domanda di lavoro? Quale regolazione dovrà accompag
 narla? Le professioni riconosciute dalla Legge 4/2013 possono sostenere qu
 esto cambiamento\, rafforzarsi e concentrandosi su etica\, competenza\, qu
 alità di prestazione e garanzie. In tutto ciò\, non può mancare una for
 te rappresentanza\, quel ruolo che le associazioni professionali hanno svo
 lto fino ad oggi\, che va riconosciuto e istituzionalizzato ad ogni livell
 o.\n\nI soggetti invitati alla discussione sono:\n\n 	Ministeri del Lavoro
 \n 	Ministero delle Imprese e del Made in Italy\n 	Ministero dell’Econom
 ia e delle Finanze\n 	Ministero del Lavoro e delle Politiche Sociali\n 	As
 sociazioni datoriali delle Imprese\n 	Sindacati e parti sociali\n 	Associa
 zioni dei Consumatori\n 	Istituzioni\n 	Università\, Centri di Ricerca e 
 poli dell'Innovazione\n 	Organizzazioni che operano nel campo della Rappre
 sentanza\n 	Parlamentari e Europarlamentari\n\n&nbsp\;
LOCATION:Sala Refettorio\, Palazzo San Macuto\, Via del Seminario 76\, Roma
 \, 00186\, Lazio\, Italia
X-APPLE-STRUCTURED-LOCATION;VALUE=URI;X-ADDRESS=Via del Seminario 76\, Roma
 \, 00186\, Lazio\, Italia;X-APPLE-RADIUS=100;X-TITLE=Sala Refettorio\, Pal
 azzo San Macuto:geo:0,0
END:VEVENT
BEGIN:VTIMEZONE
TZID:Europe/Rome
X-LIC-LOCATION:Europe/Rome
BEGIN:STANDARD
DTSTART:20251026T020000
TZOFFSETFROM:+0200
TZOFFSETTO:+0100
TZNAME:CET
END:STANDARD
END:VTIMEZONE
END:VCALENDARBEGIN:VCALENDAR
VERSION:2.0
PRODID:-//wp-events-plugin.com//7.2.3.1//EN
TZID:Europe/Rome
X-WR-TIMEZONE:Europe/Rome
BEGIN:VEVENT
UID:41@anpia.it
DTSTART;TZID=Europe/Rome:20251218T090000
DTEND;TZID=Europe/Rome:20251218T140000
DTSTAMP:20251030T214507Z
URL:https://anpia.it/eventi/1a-edizione-professioni-tra-innovazione-svilup
 po-colap-presidente/
SUMMARY:1a Edizione Professioni tra Innovazione & Sviluppo - CoLAP - Presid
 ente
DESCRIPTION:La Presidente partecipa all'evento promosso dal CoLAP dal titol
 o "1a Edizione. Professioni tra Innovazione e Sviluppo. La legge 4/2013 ne
 ll'era dell'intelligenza artificiale: valorizzare il Professionista tra qu
 alità\, riconoscibilità e nuovi modelli di welfare"\, iniziativa che ha 
 raccolto il plauso del Presidente della Repubblica\, Sergio Mattarella.\nS
 i terrà il 18/12/2025 dalle ore 9.00 alle ore 14.oo presso la Sala Refett
 orio del Palazzo San Macuto\, Via del Seminario 76\, Roma.\nArgomento cent
 rale dell'evento sono le sfide affrontate dal professionista rispetto all'
 innovazione tecnica\, scientifica e culturale. Quali saranno i nuovi bisog
 ni? Come cambierà la domanda di lavoro? Quale regolazione dovrà accompag
 narla? Le professioni riconosciute dalla Legge 4/2013 possono sostenere qu
 esto cambiamento\, rafforzarsi e concentrandosi su etica\, competenza\, qu
 alità di prestazione e garanzie. In tutto ciò\, non può mancare una for
 te rappresentanza\, quel ruolo che le associazioni professionali hanno svo
 lto fino ad oggi\, che va riconosciuto e istituzionalizzato ad ogni livell
 o.\n\nI soggetti invitati alla discussione sono:\n\n 	Ministeri del Lavoro
 \n 	Ministero delle Imprese e del Made in Italy\n 	Ministero dell’Econom
 ia e delle Finanze\n 	Ministero del Lavoro e delle Politiche Sociali\n 	As
 sociazioni datoriali delle Imprese\n 	Sindacati e parti sociali\n 	Associa
 zioni dei Consumatori\n 	Istituzioni\n 	Università\, Centri di Ricerca e 
 poli dell'Innovazione\n 	Organizzazioni che operano nel campo della Rappre
 sentanza\n 	Parlamentari e Europarlamentari\n\n&nbsp\;
LOCATION:Sala Refettorio\, Palazzo San Macuto\, Via del Seminario 76\, Roma
 \, 00186\, Lazio\, Italia
X-APPLE-STRUCTURED-LOCATION;VALUE=URI;X-ADDRESS=Via del Seminario 76\, Roma
 \, 00186\, Lazio\, Italia;X-APPLE-RADIUS=100;X-TITLE=Sala Refettorio\, Pal
 azzo San Macuto:geo:0,0
END:VEVENT
BEGIN:VTIMEZONE
TZID:Europe/Rome
X-LIC-LOCATION:Europe/Rome
BEGIN:STANDARD
DTSTART:20251026T020000
TZOFFSETFROM:+0200
TZOFFSETTO:+0100
TZNAME:CET
END:STANDARD
END:VTIMEZONE
END:VCALENDAR